BEGIN:VCALENDAR
VERSION:2.0
PRODID:-//Betongföreningen - ECPv6.15.20//NONSGML v1.0//EN
CALSCALE:GREGORIAN
METHOD:PUBLISH
X-WR-CALNAME:Betongföreningen
X-ORIGINAL-URL:https://betongforeningen.se
X-WR-CALDESC:Händelser för Betongföreningen
REFRESH-INTERVAL;VALUE=DURATION:PT1H
X-Robots-Tag:noindex
X-PUBLISHED-TTL:PT1H
BEGIN:VTIMEZONE
TZID:Europe/Stockholm
BEGIN:DAYLIGHT
TZOFFSETFROM:+0100
TZOFFSETTO:+0200
TZNAME:CEST
DTSTART:20210328T010000
END:DAYLIGHT
BEGIN:STANDARD
TZOFFSETFROM:+0200
TZOFFSETTO:+0100
TZNAME:CET
DTSTART:20211031T010000
END:STANDARD
BEGIN:DAYLIGHT
TZOFFSETFROM:+0100
TZOFFSETTO:+0200
TZNAME:CEST
DTSTART:20220327T010000
END:DAYLIGHT
BEGIN:STANDARD
TZOFFSETFROM:+0200
TZOFFSETTO:+0100
TZNAME:CET
DTSTART:20221030T010000
END:STANDARD
BEGIN:DAYLIGHT
TZOFFSETFROM:+0100
TZOFFSETTO:+0200
TZNAME:CEST
DTSTART:20230326T010000
END:DAYLIGHT
BEGIN:STANDARD
TZOFFSETFROM:+0200
TZOFFSETTO:+0100
TZNAME:CET
DTSTART:20231029T010000
END:STANDARD
END:VTIMEZONE
BEGIN:VEVENT
DTSTART;TZID=Europe/Stockholm:20220530T130000
DTEND;TZID=Europe/Stockholm:20220530T160000
DTSTAMP:20260424T212602
CREATED:20220328T111032Z
LAST-MODIFIED:20220328T111032Z
UID:12264-1653915600-1653926400@betongforeningen.se
SUMMARY:Rätt metoder för laboratorieförsök och sprickriskanalyser
DESCRIPTION:Att egenspänningar i tidig ålder kan orsaka sprickor och andra olägenheter i såväl grova som slanka konstruktioner har man ju känt till i snart 100 år. Strävan mot klimatreducerad betong med höga prestanda ökar i Sverige och innebär att behovet ökar för att korrekt beräkna sprickriskerna. Då behövs parametrar för den hårdnande betongens egenskapstillväxt från väl genomförda laboratorieförsök. \nVi tycker det är dags att ge en uppdatering av läget inom området och vill ha inspel från er! \nWebbinarium 30 maj kl 13.00 – 16.00 \nSyfte: Ge en bild över aktuellt kunskapsläge i Sverige\, framtida strategier och få information från er.\nFrågeställningar: Prognoser\, hur undvika sprickor\, \, egenskaper ung betong\, klimatreducerade betong m.m.\nFör vem: Utvecklare\, beställare\, materialleverantörer\, konsulter och utförare\nAgenda: kunskapsläge\, exempel utförande\, utveckling – (kommer inom kort liksom länk). \nFöredragshållare bjuds in – om du har något du vill förmedla – kontakta oss. \nVälkomna!\nMartin Nilsson\, Jonny Nilimaa projektledare/bitr proj ledare\, LTU \nLäs mer och skicka intresseanmälan »
URL:https://betongforeningen.se/event/ratt-metoder-for-laboratorieforsok-och-sprickriskanalyser/
CATEGORIES:Webbinarium
ATTACH;FMTTYPE=image/png:https://betongforeningen.se/wp-content/uploads/2022/03/bbt.png
END:VEVENT
END:VCALENDAR