BEGIN:VCALENDAR
VERSION:2.0
PRODID:-//Betongföreningen - ECPv6.15.20//NONSGML v1.0//EN
CALSCALE:GREGORIAN
METHOD:PUBLISH
X-ORIGINAL-URL:https://betongforeningen.se
X-WR-CALDESC:Händelser för Betongföreningen
REFRESH-INTERVAL;VALUE=DURATION:PT1H
X-Robots-Tag:noindex
X-PUBLISHED-TTL:PT1H
BEGIN:VTIMEZONE
TZID:Europe/Stockholm
BEGIN:DAYLIGHT
TZOFFSETFROM:+0100
TZOFFSETTO:+0200
TZNAME:CEST
DTSTART:20210328T010000
END:DAYLIGHT
BEGIN:STANDARD
TZOFFSETFROM:+0200
TZOFFSETTO:+0100
TZNAME:CET
DTSTART:20211031T010000
END:STANDARD
BEGIN:DAYLIGHT
TZOFFSETFROM:+0100
TZOFFSETTO:+0200
TZNAME:CEST
DTSTART:20220327T010000
END:DAYLIGHT
BEGIN:STANDARD
TZOFFSETFROM:+0200
TZOFFSETTO:+0100
TZNAME:CET
DTSTART:20221030T010000
END:STANDARD
BEGIN:DAYLIGHT
TZOFFSETFROM:+0100
TZOFFSETTO:+0200
TZNAME:CEST
DTSTART:20230326T010000
END:DAYLIGHT
BEGIN:STANDARD
TZOFFSETFROM:+0200
TZOFFSETTO:+0100
TZNAME:CET
DTSTART:20231029T010000
END:STANDARD
END:VTIMEZONE
BEGIN:VEVENT
DTSTART;TZID=Europe/Stockholm:20221118T093000
DTEND;TZID=Europe/Stockholm:20221118T160000
DTSTAMP:20260425T124348
CREATED:20221025T152521Z
LAST-MODIFIED:20221025T152521Z
UID:12632-1668763800-1668787200@betongforeningen.se
SUMMARY:Brosamverkan arrangerar två intressanta studiebesök i Stockholm
DESCRIPTION:Brosamverkan bjuder in Betongföreningens medlemmar till två intressanta studiebesök i Stockholm\nSkurusundet\, Nacka\nStudiebesök 1: Trafikverket bygger ny bro över Skurusundet i Nacka\nEn ny bro över Skurusundet byggs för att skapa en trafiksäkrare förbindelse med bättre framkomlighet. Med två broar minskar även sårbarheten i trafiken. Den nya bron får tre körfält i vardera riktningen\, i stället för dagens två. Med den nya bron kommer trafiken att flyta bättre. Nacka och Värmdö växer och har många besökare. Den nya bron bidrar till att kommunerna kan fortsätta att utvecklas. \n  \nSlussen\, Stockholm\nStudiebesök 2: Skanska bygger på uppdrag av Stockholms Stad om Slussen i Stockholm\nEfter 80 år är slussen i mycket dåligt skick och måste rivas och byggas upp från grunden. Nya Slussen ska bli en attraktiv mötesplats med nya torg\, kajer och en grönskande park. Kollektivtrafiken får mer plats\, precis som gående och cyklister. Ytorna för biltrafik anpassas för att rymma dagens trafikflöden. Slussens ombyggnad har även stor betydelse för hela Mälardalen. Med den nya anläggningen blir det möjligt att tappa ut dubbelt så mycket vatten från Mälaren\, vilket minskar dagens stora risk för översvämningar. Det tryggar både viktig infrastruktur och dricksvattnet för två miljoner människor. \n  \nDet är möjligt att anmäla sig till ett av besöken eller bägge två. Antalet platser är begränsade. \nLäs mer och anmäl dig på Brosamverkans hemsida »
URL:https://betongforeningen.se/event/brosamverkan-arrangerar-tva-intressanta-studiebesok-i-stockholm/
CATEGORIES:Studiebesök
ATTACH;FMTTYPE=image/png:https://betongforeningen.se/wp-content/uploads/2022/10/brosam-cal1.png
END:VEVENT
END:VCALENDAR