BEGIN:VCALENDAR
VERSION:2.0
PRODID:-//Betongföreningen - ECPv6.15.20//NONSGML v1.0//EN
CALSCALE:GREGORIAN
METHOD:PUBLISH
X-WR-CALNAME:Betongföreningen
X-ORIGINAL-URL:https://betongforeningen.se
X-WR-CALDESC:Händelser för Betongföreningen
REFRESH-INTERVAL;VALUE=DURATION:PT1H
X-Robots-Tag:noindex
X-PUBLISHED-TTL:PT1H
BEGIN:VTIMEZONE
TZID:Europe/Stockholm
BEGIN:DAYLIGHT
TZOFFSETFROM:+0100
TZOFFSETTO:+0200
TZNAME:CEST
DTSTART:20220327T010000
END:DAYLIGHT
BEGIN:STANDARD
TZOFFSETFROM:+0200
TZOFFSETTO:+0100
TZNAME:CET
DTSTART:20221030T010000
END:STANDARD
BEGIN:DAYLIGHT
TZOFFSETFROM:+0100
TZOFFSETTO:+0200
TZNAME:CEST
DTSTART:20230326T010000
END:DAYLIGHT
BEGIN:STANDARD
TZOFFSETFROM:+0200
TZOFFSETTO:+0100
TZNAME:CET
DTSTART:20231029T010000
END:STANDARD
BEGIN:DAYLIGHT
TZOFFSETFROM:+0100
TZOFFSETTO:+0200
TZNAME:CEST
DTSTART:20240331T010000
END:DAYLIGHT
BEGIN:STANDARD
TZOFFSETFROM:+0200
TZOFFSETTO:+0100
TZNAME:CET
DTSTART:20241027T010000
END:STANDARD
END:VTIMEZONE
BEGIN:VEVENT
DTSTART;TZID=Europe/Stockholm:20230131T090000
DTEND;TZID=Europe/Stockholm:20230131T153000
DTSTAMP:20260425T155457
CREATED:20221109T163919Z
LAST-MODIFIED:20221109T163919Z
UID:25610-1675155600-1675179000@betongforeningen.se
SUMMARY:CIR-dagen
DESCRIPTION:Välkommen till CIR-dagen 2023 den 31 januari i Göteborg\n(dagen efter Brobyggardagen) \nTemat är \nHöga byggnader\nUtöver intressanta föredrag från bl a Serneke\, Tyréns och VBK Konsulterande ingenjörer innehåller CIR-dagen ett pass om aktuella BBT-projekt (BBT – Branschprogram för forskning och innovation avseende byggnadsverk inom transportsektorn). Dessa föredrag är ännu inte helt fastlagda utan är under planering. \nSe program och anmäl dig på www.svenskacir.se
URL:https://betongforeningen.se/event/cir-dagen/
CATEGORIES:Konferens
ATTACH;FMTTYPE=image/jpeg:https://betongforeningen.se/wp-content/uploads/2022/11/cir-dagen.jpg
END:VEVENT
END:VCALENDAR