BEGIN:VCALENDAR
VERSION:2.0
PRODID:-//Betongföreningen - ECPv6.15.20//NONSGML v1.0//EN
CALSCALE:GREGORIAN
METHOD:PUBLISH
X-WR-CALNAME:Betongföreningen
X-ORIGINAL-URL:https://betongforeningen.se
X-WR-CALDESC:Händelser för Betongföreningen
REFRESH-INTERVAL;VALUE=DURATION:PT1H
X-Robots-Tag:noindex
X-PUBLISHED-TTL:PT1H
BEGIN:VTIMEZONE
TZID:Europe/Stockholm
BEGIN:DAYLIGHT
TZOFFSETFROM:+0100
TZOFFSETTO:+0200
TZNAME:CEST
DTSTART:20220327T010000
END:DAYLIGHT
BEGIN:STANDARD
TZOFFSETFROM:+0200
TZOFFSETTO:+0100
TZNAME:CET
DTSTART:20221030T010000
END:STANDARD
BEGIN:DAYLIGHT
TZOFFSETFROM:+0100
TZOFFSETTO:+0200
TZNAME:CEST
DTSTART:20230326T010000
END:DAYLIGHT
BEGIN:STANDARD
TZOFFSETFROM:+0200
TZOFFSETTO:+0100
TZNAME:CET
DTSTART:20231029T010000
END:STANDARD
BEGIN:DAYLIGHT
TZOFFSETFROM:+0100
TZOFFSETTO:+0200
TZNAME:CEST
DTSTART:20240331T010000
END:DAYLIGHT
BEGIN:STANDARD
TZOFFSETFROM:+0200
TZOFFSETTO:+0100
TZNAME:CET
DTSTART:20241027T010000
END:STANDARD
END:VTIMEZONE
BEGIN:VEVENT
DTSTART;VALUE=DATE:20230820
DTEND;VALUE=DATE:20230821
DTSTAMP:20260426T021030
CREATED:20230621T102039Z
LAST-MODIFIED:20230621T102039Z
UID:25621-1692489600-1692575999@betongforeningen.se
SUMMARY:Doktorandtjänst Byggmaterial\, Klimatreducerad betong för anläggningsbyggande i kallt klimat
DESCRIPTION:ANNONS \nSista ansökningsdag 20 augusti. \nI norra Sverige sker stora investeringar av anläggningar för fossilfri stålframställning\, ny kustjärnväg (Norrbotniabanan)\, hamnbyggnationer och anläggande av vindkraftverk. I dessa konstruktioner utgör betong det huvudsakliga byggnadsmaterialet. Enbart i Norrbotniabanan ska 250 betongbroar anläggas och en av anläggningarna för stålframställning motsvarar ca 10 % av Sveriges årliga fabrikstillverkade betongvolym \nI projektet är du som doktorand med och utvecklar framtidens betong för de strukturer som grundlägger industribyggnaderna till klimatomställningen i Sverige och de infrastruktursatsningar som sker i landet. \nDet undersöks vilka möjligheter som finns till reduktioner av klimatbelastning med bibehållen funktion och prestanda. Helst ska prestandan öka. Speciellt studeras egenskaper i tidigt skede och hur de påverkar möjligheter till byggande under de förutsättningar som gäller i norra Sverige. \nLaboratoriestudier av betongegenskaper och efterföljande matematisk modellering genomförs. Nyutveckling av testmetoder och modellering ingår också som en del i arbetet. Prognoser kan därvid ske för problemfri gjutning under vinterförhållanden och följas upp efteråt. \nI din position som doktorand handleds du av erfarna forskare i nära kontakt med industrin som är i utvecklingsfronten beträffande framtidens bindemedel och betong samt de entreprenörer som ska bygga kustjärnvägen Norrbotniabanan och strukturerna för fossilfri stålframställning genom bl a H2Green Steel. \nLäs mer »\n\nDenna annons är publicerad för Betongföreningens korporativa medlem Luleå Tekniska Universitet.
URL:https://betongforeningen.se/event/doktorandtjanst-ledig/
CATEGORIES:Ledig tjänst
ATTACH;FMTTYPE=:
END:VEVENT
END:VCALENDAR