BEGIN:VCALENDAR
VERSION:2.0
PRODID:-//Betongföreningen - ECPv6.15.20//NONSGML v1.0//EN
CALSCALE:GREGORIAN
METHOD:PUBLISH
X-WR-CALNAME:Betongföreningen
X-ORIGINAL-URL:https://betongforeningen.se
X-WR-CALDESC:Händelser för Betongföreningen
REFRESH-INTERVAL;VALUE=DURATION:PT1H
X-Robots-Tag:noindex
X-PUBLISHED-TTL:PT1H
BEGIN:VTIMEZONE
TZID:Europe/Stockholm
BEGIN:DAYLIGHT
TZOFFSETFROM:+0100
TZOFFSETTO:+0200
TZNAME:CEST
DTSTART:20250330T010000
END:DAYLIGHT
BEGIN:STANDARD
TZOFFSETFROM:+0200
TZOFFSETTO:+0100
TZNAME:CET
DTSTART:20251026T010000
END:STANDARD
BEGIN:DAYLIGHT
TZOFFSETFROM:+0100
TZOFFSETTO:+0200
TZNAME:CEST
DTSTART:20260329T010000
END:DAYLIGHT
BEGIN:STANDARD
TZOFFSETFROM:+0200
TZOFFSETTO:+0100
TZNAME:CET
DTSTART:20261025T010000
END:STANDARD
BEGIN:DAYLIGHT
TZOFFSETFROM:+0100
TZOFFSETTO:+0200
TZNAME:CEST
DTSTART:20270328T010000
END:DAYLIGHT
BEGIN:STANDARD
TZOFFSETFROM:+0200
TZOFFSETTO:+0100
TZNAME:CET
DTSTART:20271031T010000
END:STANDARD
END:VTIMEZONE
BEGIN:VEVENT
DTSTART;VALUE=DATE:20260518
DTEND;VALUE=DATE:20260606
DTSTAMP:20260425T002402
CREATED:20260402T112249Z
LAST-MODIFIED:20260402T112249Z
UID:32996-1779062400-1780703999@betongforeningen.se
SUMMARY:Kursstart 18 maj: Platsgjutning Klass I-U
DESCRIPTION:Platsgjutning av betong – kompetensklass I-U\nKlass I-kurserna ger den kunskap om teknik och regelverk som erfordras för att deltagaren ska kunna leda och övervaka platsgjutning av betong i kompetensklass I. \nKurslängden är 10 dagar och kursen ges som klassrumsundervisning. \nTvå års praktik samt godkänd tentamen krävs för certifikat. \nFör att få påbörja Klass I krävs Klass II med godkänd tentamen och laboration samt 1 års praktik. \nLäs mer och anmäl deltagande här »
URL:https://betongforeningen.se/event/kursstart-18-maj-platsgjutning-klass-i-u/
LOCATION:Scandic Infra City\, Kanalvägen 10\, Upplands Väsby\, Sweden
CATEGORIES:Utbildning
ATTACH;FMTTYPE=image/jpeg:https://betongforeningen.se/wp-content/uploads/2026/02/Klass_II_P_2025.jpg
END:VEVENT
BEGIN:VEVENT
DTSTART;VALUE=DATE:20260526
DTEND;VALUE=DATE:20260529
DTSTAMP:20260425T002402
CREATED:20260402T112856Z
LAST-MODIFIED:20260422T120327Z
UID:33000-1779753600-1780012799@betongforeningen.se
SUMMARY:Kursstart 26 maj: Ökad livslängd för betongkonstruktioner
DESCRIPTION:Ökad livslängd för betongkonstruktioner\nYtskyddsakademien i samarbete med Betongföreningen har arbetat fram utbildningen ”Ökad livslängd för betongkonstruktioner” som troligen är den mest omfattande utbildningen som genomförts inom detta komplexa kunskapsområde. Totalt är det över 30 arbetsområden som kommer att presenteras och kunskapsförmedlarna har mestadels 20-40 års erfarenhet inom sitt kunskapsområde. Det finns åtskilliga studier som visar att ökad livslängd på befintliga konstruktioner kan minska miljöpåverkan med 80% men samtidigt också spara 80% av kostnaderna. \nUtbildningen kommer att genomföras den 26-28 maj 2026 i Stockholm och är på 3 dagar. Alla kursdeltagare erhåller diplom. \nLäs mer och anmäl deltagande här »
URL:https://betongforeningen.se/event/kursstart-26-maj-okad-livslangd-for-betongkonstruktioner/
CATEGORIES:Utbildning
ATTACH;FMTTYPE=image/png:https://betongforeningen.se/wp-content/uploads/2025/11/YSA-background-4.png
END:VEVENT
END:VCALENDAR