BEGIN:VCALENDAR
VERSION:2.0
PRODID:-//Betongföreningen - ECPv6.15.20//NONSGML v1.0//EN
CALSCALE:GREGORIAN
METHOD:PUBLISH
X-ORIGINAL-URL:https://betongforeningen.se
X-WR-CALDESC:Händelser för Betongföreningen
REFRESH-INTERVAL;VALUE=DURATION:PT1H
X-Robots-Tag:noindex
X-PUBLISHED-TTL:PT1H
BEGIN:VTIMEZONE
TZID:Europe/Stockholm
BEGIN:DAYLIGHT
TZOFFSETFROM:+0100
TZOFFSETTO:+0200
TZNAME:CEST
DTSTART:20200329T010000
END:DAYLIGHT
BEGIN:STANDARD
TZOFFSETFROM:+0200
TZOFFSETTO:+0100
TZNAME:CET
DTSTART:20201025T010000
END:STANDARD
BEGIN:DAYLIGHT
TZOFFSETFROM:+0100
TZOFFSETTO:+0200
TZNAME:CEST
DTSTART:20210328T010000
END:DAYLIGHT
BEGIN:STANDARD
TZOFFSETFROM:+0200
TZOFFSETTO:+0100
TZNAME:CET
DTSTART:20211031T010000
END:STANDARD
BEGIN:DAYLIGHT
TZOFFSETFROM:+0100
TZOFFSETTO:+0200
TZNAME:CEST
DTSTART:20220327T010000
END:DAYLIGHT
BEGIN:STANDARD
TZOFFSETFROM:+0200
TZOFFSETTO:+0100
TZNAME:CET
DTSTART:20221030T010000
END:STANDARD
END:VTIMEZONE
BEGIN:VEVENT
DTSTART;TZID=Europe/Stockholm:20210528T090000
DTEND;TZID=Europe/Stockholm:20210528T120000
DTSTAMP:20260424T031458
CREATED:20210506T102541Z
LAST-MODIFIED:20210506T102541Z
UID:11472-1622192400-1622203200@betongforeningen.se
SUMMARY:Disputation: Addressing the complexity of sustainability-driven structural design: Computational design\, optimization\, and decision making
DESCRIPTION:Följande disputation kommer att ske på Chalmers tekniska högskola den 28 maj 2021 09:00-12:00. \nPhD student: Alexandre Mathern\nThesis title: Addressing the complexity of sustainability-driven structural design: Computational design\, optimization\, and decision making\nOpponent: Helena Gervasio\, University of Coimbra\nExaminer: Mario Plos\, Chalmers University of Technology\nLocation: Online event (Zoom link: https://chalmers.zoom.us/j/63775136828\, Password: 014290) \nThe abstract and the electronic version of the thesis can be found at the link below:\nhttps://research.chalmers.se/publication/523654
URL:https://betongforeningen.se/event/disputation-addressing-the-complexity-of-sustainability-driven-structural-design-computational-design-optimization-and-decision-making/
CATEGORIES:Disputationer och lic seminarier
END:VEVENT
END:VCALENDAR