BEGIN:VCALENDAR
VERSION:2.0
PRODID:-//Betongföreningen - ECPv6.15.20//NONSGML v1.0//EN
CALSCALE:GREGORIAN
METHOD:PUBLISH
X-WR-CALNAME:Betongföreningen
X-ORIGINAL-URL:https://betongforeningen.se
X-WR-CALDESC:Händelser för Betongföreningen
REFRESH-INTERVAL;VALUE=DURATION:PT1H
X-Robots-Tag:noindex
X-PUBLISHED-TTL:PT1H
BEGIN:VTIMEZONE
TZID:Europe/Stockholm
BEGIN:DAYLIGHT
TZOFFSETFROM:+0100
TZOFFSETTO:+0200
TZNAME:CEST
DTSTART:20200329T010000
END:DAYLIGHT
BEGIN:STANDARD
TZOFFSETFROM:+0200
TZOFFSETTO:+0100
TZNAME:CET
DTSTART:20201025T010000
END:STANDARD
BEGIN:DAYLIGHT
TZOFFSETFROM:+0100
TZOFFSETTO:+0200
TZNAME:CEST
DTSTART:20210328T010000
END:DAYLIGHT
BEGIN:STANDARD
TZOFFSETFROM:+0200
TZOFFSETTO:+0100
TZNAME:CET
DTSTART:20211031T010000
END:STANDARD
BEGIN:DAYLIGHT
TZOFFSETFROM:+0100
TZOFFSETTO:+0200
TZNAME:CEST
DTSTART:20220327T010000
END:DAYLIGHT
BEGIN:STANDARD
TZOFFSETFROM:+0200
TZOFFSETTO:+0100
TZNAME:CET
DTSTART:20221030T010000
END:STANDARD
END:VTIMEZONE
BEGIN:VEVENT
DTSTART;TZID=Europe/Stockholm:20211209T090000
DTEND;TZID=Europe/Stockholm:20211209T110000
DTSTAMP:20260423T175859
CREATED:20211128T111829Z
LAST-MODIFIED:20211128T111829Z
UID:11951-1639040400-1639047600@betongforeningen.se
SUMMARY:Disputation: Natural corrosion in reinforced concrete structures
DESCRIPTION:Samanta Robuschi\, Konstruktionsteknik Chalmers tekniska högskola\, disputerar den 9 dec enligt nedan. \nTitel: ”Natural corrosion in reinforced concrete structures”. Avhandlingen kan läsas på https://research.chalmers.se/publication/526958\nOpponent: Assistant Professor\, Branko Savija\, Department of Materials\, Mechanics\, TU Delft\, The Netherlands\nExaminator och huvudhandledare: Professor\, Karin Lundgren\, Konstruktionsteknik\, Arkitektur och samhällsbyggnadsteknik\, Chalmers\nTid: den 9 december 2021 klockan 09:00\nPlats: Vasa C\, lecture room\, Vera Sandbergs Allé 8\, Vasa Hus 3 och digitalt i Zoom\, länk: https://www.chalmers.se/sv/institutioner/ace/kalendarium/Sidor/Samanta-Robuschi—Konstruktionsteknik.aspx
URL:https://betongforeningen.se/event/disputation-natural-corrosion-in-reinforced-concrete-structures/
CATEGORIES:Disputationer och lic seminarier
END:VEVENT
END:VCALENDAR