BEGIN:VCALENDAR
VERSION:2.0
PRODID:-//Betongföreningen - ECPv6.15.20//NONSGML v1.0//EN
CALSCALE:GREGORIAN
METHOD:PUBLISH
X-WR-CALNAME:Betongföreningen
X-ORIGINAL-URL:https://betongforeningen.se
X-WR-CALDESC:Händelser för Betongföreningen
REFRESH-INTERVAL;VALUE=DURATION:PT1H
X-Robots-Tag:noindex
X-PUBLISHED-TTL:PT1H
BEGIN:VTIMEZONE
TZID:Europe/Stockholm
BEGIN:DAYLIGHT
TZOFFSETFROM:+0100
TZOFFSETTO:+0200
TZNAME:CEST
DTSTART:20210328T010000
END:DAYLIGHT
BEGIN:STANDARD
TZOFFSETFROM:+0200
TZOFFSETTO:+0100
TZNAME:CET
DTSTART:20211031T010000
END:STANDARD
BEGIN:DAYLIGHT
TZOFFSETFROM:+0100
TZOFFSETTO:+0200
TZNAME:CEST
DTSTART:20220327T010000
END:DAYLIGHT
BEGIN:STANDARD
TZOFFSETFROM:+0200
TZOFFSETTO:+0100
TZNAME:CET
DTSTART:20221030T010000
END:STANDARD
BEGIN:DAYLIGHT
TZOFFSETFROM:+0100
TZOFFSETTO:+0200
TZNAME:CEST
DTSTART:20230326T010000
END:DAYLIGHT
BEGIN:STANDARD
TZOFFSETFROM:+0200
TZOFFSETTO:+0100
TZNAME:CET
DTSTART:20231029T010000
END:STANDARD
END:VTIMEZONE
BEGIN:VEVENT
DTSTART;TZID=Europe/Stockholm:20220608T130000
DTEND;TZID=Europe/Stockholm:20220608T130000
DTSTAMP:20260423T095015
CREATED:20220530T161519Z
LAST-MODIFIED:20220530T161519Z
UID:12356-1654693200-1654693200@betongforeningen.se
SUMMARY:Licentiatseminarium: Louise Andersson – Continuous Preventive Bridge Maintenance
DESCRIPTION:Continuous Preventive Bridge Maintenance\n\nEffect of High Pressure Washing on Concrete Bridges\n\n\nTid: On 2022-06-08 kl 13.00\nPlats: M108\, Brinellvägen 23\, Campus\, videolänk\nVideolänk: https://kth-se.zoom.us/j/62323749048\nSpråk: Svenska\nÄmnesområde: Byggvetenskap\, Betongbyggnad\nLicentiand: Louise Andersson \, Betongbyggnad\, RISE AB\nGranskare: Docent Ylva Edwards\nHuvudhandledare: Professor Johan Silfwerbrand\, Betongbyggnad; Tekn. Dr Anders Selander\, Cementa \nLäs mer »
URL:https://betongforeningen.se/event/licentiatseminarium-louise-andersson-continuous-preventive-bridge-maintenance/
CATEGORIES:Disputationer och lic seminarier
END:VEVENT
BEGIN:VEVENT
DTSTART;TZID=Europe/Stockholm:20220617T100000
DTEND;TZID=Europe/Stockholm:20220617T100000
DTSTAMP:20260423T095015
CREATED:20220530T163140Z
LAST-MODIFIED:20220530T163140Z
UID:12358-1655460000-1655460000@betongforeningen.se
SUMMARY:Disputation: Ilda Tole – Revalorization of poorly reactive sources by mechanochemical activation: An alternative approach for sustainable cementitious binders
DESCRIPTION:Ilda Tole\, Byggmaterial Luleå tekniska universitet\, disputerar den 17 juni enligt nedan. \nTitel: ”Revalorization of poorly reactive sources by mechanochemical activation: An alternative approach for sustainable cementitious binders”.\nOpponent: Professor Pietro Lura\, ETH Zürich\, Zürich\, Switzerland; Swiss Federal Laboratories for Materials Science (Empa)\, Dübendorf\, Switzerland.\nHandledare: Andrzej Cwirzen\, Luleå tekniska universitet\, Institutionen för samhällsbyggnad och naturresurser\, Byggkonstruktion och brand.\nKarin Habermehl-Cwirzen\, Luleå tekniska universitet\, Institutionen för samhällsbyggnad och naturresurser\, Byggkonstruktion och brand.\nProfessor Delogu\, Francesco\, Department of Mechanical\, Chemical Engineering and Engineering of Materials\, University of Cagliari\, Cagliari\, Italy.\nSpråk: Engelska \nTid: den 17 juni 2021 klockan 10:00\nPlats: Luleå tekniska universitet\, F1031\, Luleå \nLäs mer »
URL:https://betongforeningen.se/event/disputation-ilda-tole-revalorization-of-poorly-reactive-sources-by-mechanochemical-activation-an-alternative-approach-for-sustainable-cementitious-binders/
CATEGORIES:Disputationer och lic seminarier
END:VEVENT
END:VCALENDAR