BEGIN:VCALENDAR
VERSION:2.0
PRODID:-//Betongföreningen - ECPv6.15.20//NONSGML v1.0//EN
CALSCALE:GREGORIAN
METHOD:PUBLISH
X-WR-CALNAME:Betongföreningen
X-ORIGINAL-URL:https://betongforeningen.se
X-WR-CALDESC:Händelser för Betongföreningen
REFRESH-INTERVAL;VALUE=DURATION:PT1H
X-Robots-Tag:noindex
X-PUBLISHED-TTL:PT1H
BEGIN:VTIMEZONE
TZID:Europe/Stockholm
BEGIN:DAYLIGHT
TZOFFSETFROM:+0100
TZOFFSETTO:+0200
TZNAME:CEST
DTSTART:20220327T010000
END:DAYLIGHT
BEGIN:STANDARD
TZOFFSETFROM:+0200
TZOFFSETTO:+0100
TZNAME:CET
DTSTART:20221030T010000
END:STANDARD
BEGIN:DAYLIGHT
TZOFFSETFROM:+0100
TZOFFSETTO:+0200
TZNAME:CEST
DTSTART:20230326T010000
END:DAYLIGHT
BEGIN:STANDARD
TZOFFSETFROM:+0200
TZOFFSETTO:+0100
TZNAME:CET
DTSTART:20231029T010000
END:STANDARD
BEGIN:DAYLIGHT
TZOFFSETFROM:+0100
TZOFFSETTO:+0200
TZNAME:CEST
DTSTART:20240331T010000
END:DAYLIGHT
BEGIN:STANDARD
TZOFFSETFROM:+0200
TZOFFSETTO:+0100
TZNAME:CET
DTSTART:20241027T010000
END:STANDARD
END:VTIMEZONE
BEGIN:VEVENT
DTSTART;TZID=Europe/Stockholm:20230523T100000
DTEND;TZID=Europe/Stockholm:20230523T100000
DTSTAMP:20260422T202900
CREATED:20230503T100135Z
LAST-MODIFIED:20230503T100135Z
UID:25619-1684836000-1684836000@betongforeningen.se
SUMMARY:Licentiatseminarium: Andreas Alhede – Chalmers\, Arkitektur och samhällsbyggnadsteknik
DESCRIPTION:Den 23 maj klockan 10:00 är det Licentiatseminarium på Chalmers\nPhD student: Andreas Alhede\nThesis title: Novel approaches for monitoring effects of steel corrosion in reinforced concrete\nPublished in: https://research.chalmers.se/en/publication/?id=535511 \nTime: May 23rd at 10:00\nLocation: SB-H3\, Sven Hultins gata 6 (SB2 building)\, Chalmers\, Göteborg\nOr join remotely: https://chalmers.zoom.us/j/68477865096 (Password: 123456) \nDiscussion leader: Associate Prof. Els Verstrynge\, KU Leuven\, Belgium.\nSupervisors: Prof. Karin Lundgren (Chalmers) and Prof. Jelke Dijkstra (Chalmers).\nExaminer: Prof. Angela Sasic Kalagasidis (Chalmers)
URL:https://betongforeningen.se/event/licentiatseminarium-andreas-alhede-chalmers-arkitektur-och-samhallsbyggnadsteknik/
CATEGORIES:Disputationer och lic seminarier
END:VEVENT
END:VCALENDAR