BEGIN:VCALENDAR
VERSION:2.0
PRODID:-//Betongföreningen - ECPv6.15.20//NONSGML v1.0//EN
CALSCALE:GREGORIAN
METHOD:PUBLISH
X-ORIGINAL-URL:https://betongforeningen.se
X-WR-CALDESC:Händelser för Betongföreningen
REFRESH-INTERVAL;VALUE=DURATION:PT1H
X-Robots-Tag:noindex
X-PUBLISHED-TTL:PT1H
BEGIN:VTIMEZONE
TZID:Europe/Stockholm
BEGIN:DAYLIGHT
TZOFFSETFROM:+0100
TZOFFSETTO:+0200
TZNAME:CEST
DTSTART:20220327T010000
END:DAYLIGHT
BEGIN:STANDARD
TZOFFSETFROM:+0200
TZOFFSETTO:+0100
TZNAME:CET
DTSTART:20221030T010000
END:STANDARD
BEGIN:DAYLIGHT
TZOFFSETFROM:+0100
TZOFFSETTO:+0200
TZNAME:CEST
DTSTART:20230326T010000
END:DAYLIGHT
BEGIN:STANDARD
TZOFFSETFROM:+0200
TZOFFSETTO:+0100
TZNAME:CET
DTSTART:20231029T010000
END:STANDARD
BEGIN:DAYLIGHT
TZOFFSETFROM:+0100
TZOFFSETTO:+0200
TZNAME:CEST
DTSTART:20240331T010000
END:DAYLIGHT
BEGIN:STANDARD
TZOFFSETFROM:+0200
TZOFFSETTO:+0100
TZNAME:CET
DTSTART:20241027T010000
END:STANDARD
BEGIN:DAYLIGHT
TZOFFSETFROM:+0100
TZOFFSETTO:+0200
TZNAME:CEST
DTSTART:20250330T010000
END:DAYLIGHT
BEGIN:STANDARD
TZOFFSETFROM:+0200
TZOFFSETTO:+0100
TZNAME:CET
DTSTART:20251026T010000
END:STANDARD
BEGIN:DAYLIGHT
TZOFFSETFROM:+0100
TZOFFSETTO:+0200
TZNAME:CEST
DTSTART:20260329T010000
END:DAYLIGHT
BEGIN:STANDARD
TZOFFSETFROM:+0200
TZOFFSETTO:+0100
TZNAME:CET
DTSTART:20261025T010000
END:STANDARD
END:VTIMEZONE
BEGIN:VEVENT
DTSTART;VALUE=DATE:20230905
DTEND;VALUE=DATE:20250906
DTSTAMP:20260423T085326
CREATED:20250811T101613Z
LAST-MODIFIED:20250811T101809Z
UID:31804-1693872000-1757116799@betongforeningen.se
SUMMARY:Disputation: Andreas Alhede – On the characterisation of steel corrosion and the resulting concrete damage using tomography
DESCRIPTION:Disputation på Chalmer tekniska högskola\nAndreas Alhede försvarar sin avhandling “On the characterisation of steel corrosion and the resulting concrete damage using tomography”\nLäs mer: https://research.chalmers.se/en/publication/547755 \nTid: 5 september 2025 kl 09.00 – 12.00\nPlats: SB-H6\, Sven Hultins gata 6\, Chalmers samt digitalt på Zoom)\nOpponent: Associate Professor Els Verstrynge\, Department of Civil Engineering\, KU Leuven\, Belgium
URL:https://betongforeningen.se/event/disputation-andreas-alhede-on-the-characterisation-of-steel-corrosion-and-the-resulting-concrete-damage-using-tomography/
LOCATION:Chalmers alt. Zoom\, Sven Hultins gata 6\, Göteborg
CATEGORIES:Disputationer och lic seminarier
ATTACH;FMTTYPE=image/jpeg:https://betongforeningen.se/wp-content/uploads/2020/08/doktorshatt-1-2.jpg
END:VEVENT
BEGIN:VEVENT
DTSTART;TZID=Europe/Stockholm:20231023T103000
DTEND;TZID=Europe/Stockholm:20251023T133000
DTSTAMP:20260423T085326
CREATED:20251009T093828Z
LAST-MODIFIED:20251009T093828Z
UID:32168-1698057000-1761226200@betongforeningen.se
SUMMARY:Disputation: Marcin Sundin – Performance of Lower-Carbon Concretes After High-Temperature Exposure
DESCRIPTION:Disputation på LTU\, Byggmaterial\nMarcin Sundin presenterar sin avhandling ”Performance of Lower-Carbon Concretes After High-Temperature Exposure”\nLäs mer: https://www.ltu.se/aktuellt/kalender/event/2025-10-02-disputation-i-byggmaterial—marcin-sundin \nTid: 23 oktober 2025 kl 10.30\nPlats: Luleå Tekniska Universitet\, E632 \nOpponent: Jeanette Orlowski\, Professor\, TU Dortmund University\, Department of Building Materials\nOrdförande: Magdalena Rajczakowska\, postdoktor\, Luleå tekniska universitet\, institutionen för samhällsbyggnad och naturresurser.
URL:https://betongforeningen.se/event/disputation-marcin-sundin-performance-of-lower-carbon-concretes-after-high-temperature-exposure/
LOCATION:LTU\, Universitetsområdet\, Porsön\, Luleå
CATEGORIES:Disputationer och lic seminarier
ATTACH;FMTTYPE=image/jpeg:https://betongforeningen.se/wp-content/uploads/2020/08/doktorshatt-1-2.jpg
END:VEVENT
BEGIN:VEVENT
DTSTART;TZID=Europe/Stockholm:20240312T130000
DTEND;TZID=Europe/Stockholm:20240312T130000
DTSTAMP:20260423T085326
CREATED:20240229T172435Z
LAST-MODIFIED:20240229T172435Z
UID:13755-1710248400-1710248400@betongforeningen.se
SUMMARY:Licentiatseminarium på KTH
DESCRIPTION:Saima Yaqoob will present her licentiate thesis with the title: “Concrete pavements’ repair techniques and numerical assessment of dowel bar load transfer efficiency” at KTH Royal Institute of Technology. \nTuesday\, March 12\, at 1.00 p.m. in room B3\, Brinellvägen 23\, KTH \nExternal reviewer is Prof. Anne Beeldens\, Katholieke Universiteit Leuven\, Belgium. \nExaminer is Prof. Nicole Kringos\, Dept. of Civil & Architectural Engineering\, KTH. \nThe seminar language will be English. \nIf you want to follow the seminar but are unable to come to KTH\, you can use the following Video link: https://kth-se.zoom.us/j/61107600823 \nThe thesis can be found on urn.kb.se/resolve?urn=urn:nbn:se:kth:diva-343022
URL:https://betongforeningen.se/event/licentiatseminarium-pa-kth-3/
CATEGORIES:Disputationer och lic seminarier
ATTACH;FMTTYPE=image/png:https://betongforeningen.se/wp-content/uploads/2024/02/KTH_Royal_Institute_of_Technology_logo.svg-e1709227428941.png
END:VEVENT
END:VCALENDAR