BEGIN:VCALENDAR
VERSION:2.0
PRODID:-//Betongföreningen - ECPv6.15.20//NONSGML v1.0//EN
CALSCALE:GREGORIAN
METHOD:PUBLISH
X-ORIGINAL-URL:https://betongforeningen.se
X-WR-CALDESC:Händelser för Betongföreningen
REFRESH-INTERVAL;VALUE=DURATION:PT1H
X-Robots-Tag:noindex
X-PUBLISHED-TTL:PT1H
BEGIN:VTIMEZONE
TZID:Europe/Stockholm
BEGIN:DAYLIGHT
TZOFFSETFROM:+0100
TZOFFSETTO:+0200
TZNAME:CEST
DTSTART:20200329T010000
END:DAYLIGHT
BEGIN:STANDARD
TZOFFSETFROM:+0200
TZOFFSETTO:+0100
TZNAME:CET
DTSTART:20201025T010000
END:STANDARD
BEGIN:DAYLIGHT
TZOFFSETFROM:+0100
TZOFFSETTO:+0200
TZNAME:CEST
DTSTART:20210328T010000
END:DAYLIGHT
BEGIN:STANDARD
TZOFFSETFROM:+0200
TZOFFSETTO:+0100
TZNAME:CET
DTSTART:20211031T010000
END:STANDARD
BEGIN:DAYLIGHT
TZOFFSETFROM:+0100
TZOFFSETTO:+0200
TZNAME:CEST
DTSTART:20220327T010000
END:DAYLIGHT
BEGIN:STANDARD
TZOFFSETFROM:+0200
TZOFFSETTO:+0100
TZNAME:CET
DTSTART:20221030T010000
END:STANDARD
END:VTIMEZONE
BEGIN:VEVENT
DTSTART;TZID=Europe/Stockholm:20210326T090000
DTEND;TZID=Europe/Stockholm:20210326T090000
DTSTAMP:20260424T071948
CREATED:20210305T081141Z
LAST-MODIFIED:20210305T081141Z
UID:11242-1616749200-1616749200@betongforeningen.se
SUMMARY:Disputation: Strengthening reinforced concrete structures with FRP composites
DESCRIPTION:Följande disputation kommer att ske på Chalmers\, vid institutionen för arkitektur och samhällsbyggnadsteknik: \nPhD student: Jincheng Yang\nThesis title: Strengthening reinforced concrete structures with FRP composites \nTime: 09:00 a.m. CET\, March 26\, 2021\nLocation: Online (Zoom\, https://chalmers.zoom.us/j/68467649177\, Passcode: 664625) \nFaculty opponent: Professor Renata Kotynia\, Lodz University of Technology\, Poland\nSupervisors: Associate Professor Reza Haghani\, Professor Karin Lundgren\, Adjunct Professor Morgan Johansson \nThe abstract and electronic version of my thesis can be found here: https://research.chalmers.se/en/publication/522501. Alternatively\, this link also gives access to the full text of the thesis in PDF (without appended papers). If you are interested in a hard-copy of the thesis\, please reply to me with your postal address.
URL:https://betongforeningen.se/event/disputation-2/
CATEGORIES:Disputationer och lic seminarier
END:VEVENT
END:VCALENDAR