BEGIN:VCALENDAR
VERSION:2.0
PRODID:-//Betongföreningen - ECPv6.15.20//NONSGML v1.0//EN
CALSCALE:GREGORIAN
METHOD:PUBLISH
X-ORIGINAL-URL:https://betongforeningen.se
X-WR-CALDESC:Händelser för Betongföreningen
REFRESH-INTERVAL;VALUE=DURATION:PT1H
X-Robots-Tag:noindex
X-PUBLISHED-TTL:PT1H
BEGIN:VTIMEZONE
TZID:Europe/Stockholm
BEGIN:DAYLIGHT
TZOFFSETFROM:+0100
TZOFFSETTO:+0200
TZNAME:CEST
DTSTART:20200329T010000
END:DAYLIGHT
BEGIN:STANDARD
TZOFFSETFROM:+0200
TZOFFSETTO:+0100
TZNAME:CET
DTSTART:20201025T010000
END:STANDARD
BEGIN:DAYLIGHT
TZOFFSETFROM:+0100
TZOFFSETTO:+0200
TZNAME:CEST
DTSTART:20210328T010000
END:DAYLIGHT
BEGIN:STANDARD
TZOFFSETFROM:+0200
TZOFFSETTO:+0100
TZNAME:CET
DTSTART:20211031T010000
END:STANDARD
BEGIN:DAYLIGHT
TZOFFSETFROM:+0100
TZOFFSETTO:+0200
TZNAME:CEST
DTSTART:20220327T010000
END:DAYLIGHT
BEGIN:STANDARD
TZOFFSETFROM:+0200
TZOFFSETTO:+0100
TZNAME:CET
DTSTART:20221030T010000
END:STANDARD
END:VTIMEZONE
BEGIN:VEVENT
DTSTART;TZID=Europe/Stockholm:20211014T090000
DTEND;TZID=Europe/Stockholm:20211014T120000
DTSTAMP:20260423T220848
CREATED:20211007T150752Z
LAST-MODIFIED:20211007T150752Z
UID:11731-1634202000-1634212800@betongforeningen.se
SUMMARY:Disputation: Microbial biofilm communities associated with degradation of sprayed concrete in subsea tunnels
DESCRIPTION:Sabina Karacic\, Vatten Miljö Teknik Chalmers\, disputerar den 14 oktober. \nTitel: ”Microbial biofilm communities associated with degradation of sprayed concrete in subsea tunnels\nExaminator: Biträdande professor Thomas Pettersson\, Vatten Miljö Teknik\, Arkitektur och samhällsbyggnadsteknik\, Chalmers\nHuvudhandledare: Professor Britt-Marie Wilén\, Vatten Miljö Teknik\, Arkitektur och samhällsbyggnadsteknik\, Chalmers\nOpponent: Docent Torben Lund Skovhus\, VIA University College\, Research Centre for Built Environment\, Energy\, Water and Climate\, Denmark\nTid: 2021-10-14 09:00 – 12:00\nPlats: Digitalt i Zoom\, länk https://chalmers.zoom.us/j/69295656177\, lösen 834386 \nAvhandlingen kan läsas här: https://research.chalmers.se/publication/526100
URL:https://betongforeningen.se/event/disputation-microbial-biofilm-communities-associated-with-degradation-of-sprayed-concrete-in-subsea-tunnels/
CATEGORIES:Disputationer och lic seminarier
END:VEVENT
END:VCALENDAR