BEGIN:VCALENDAR
VERSION:2.0
PRODID:-//Betongföreningen - ECPv6.15.20//NONSGML v1.0//EN
CALSCALE:GREGORIAN
METHOD:PUBLISH
X-WR-CALNAME:Betongföreningen
X-ORIGINAL-URL:https://betongforeningen.se
X-WR-CALDESC:Händelser för Betongföreningen
REFRESH-INTERVAL;VALUE=DURATION:PT1H
X-Robots-Tag:noindex
X-PUBLISHED-TTL:PT1H
BEGIN:VTIMEZONE
TZID:Europe/Stockholm
BEGIN:DAYLIGHT
TZOFFSETFROM:+0100
TZOFFSETTO:+0200
TZNAME:CEST
DTSTART:20220327T010000
END:DAYLIGHT
BEGIN:STANDARD
TZOFFSETFROM:+0200
TZOFFSETTO:+0100
TZNAME:CET
DTSTART:20221030T010000
END:STANDARD
BEGIN:DAYLIGHT
TZOFFSETFROM:+0100
TZOFFSETTO:+0200
TZNAME:CEST
DTSTART:20230326T010000
END:DAYLIGHT
BEGIN:STANDARD
TZOFFSETFROM:+0200
TZOFFSETTO:+0100
TZNAME:CET
DTSTART:20231029T010000
END:STANDARD
BEGIN:DAYLIGHT
TZOFFSETFROM:+0100
TZOFFSETTO:+0200
TZNAME:CEST
DTSTART:20240331T010000
END:DAYLIGHT
BEGIN:STANDARD
TZOFFSETFROM:+0200
TZOFFSETTO:+0100
TZNAME:CET
DTSTART:20241027T010000
END:STANDARD
BEGIN:DAYLIGHT
TZOFFSETFROM:+0100
TZOFFSETTO:+0200
TZNAME:CEST
DTSTART:20250330T010000
END:DAYLIGHT
BEGIN:STANDARD
TZOFFSETFROM:+0200
TZOFFSETTO:+0100
TZNAME:CET
DTSTART:20251026T010000
END:STANDARD
BEGIN:DAYLIGHT
TZOFFSETFROM:+0100
TZOFFSETTO:+0200
TZNAME:CEST
DTSTART:20260329T010000
END:DAYLIGHT
BEGIN:STANDARD
TZOFFSETFROM:+0200
TZOFFSETTO:+0100
TZNAME:CET
DTSTART:20261025T010000
END:STANDARD
END:VTIMEZONE
BEGIN:VEVENT
DTSTART;VALUE=DATE:20230905
DTEND;VALUE=DATE:20250906
DTSTAMP:20260422T150803
CREATED:20250811T101613Z
LAST-MODIFIED:20250811T101809Z
UID:31804-1693872000-1757116799@betongforeningen.se
SUMMARY:Disputation: Andreas Alhede – On the characterisation of steel corrosion and the resulting concrete damage using tomography
DESCRIPTION:Disputation på Chalmer tekniska högskola\nAndreas Alhede försvarar sin avhandling “On the characterisation of steel corrosion and the resulting concrete damage using tomography”\nLäs mer: https://research.chalmers.se/en/publication/547755 \nTid: 5 september 2025 kl 09.00 – 12.00\nPlats: SB-H6\, Sven Hultins gata 6\, Chalmers samt digitalt på Zoom)\nOpponent: Associate Professor Els Verstrynge\, Department of Civil Engineering\, KU Leuven\, Belgium
URL:https://betongforeningen.se/event/disputation-andreas-alhede-on-the-characterisation-of-steel-corrosion-and-the-resulting-concrete-damage-using-tomography/
LOCATION:Chalmers alt. Zoom\, Sven Hultins gata 6\, Göteborg
CATEGORIES:Disputationer och lic seminarier
ATTACH;FMTTYPE=image/jpeg:https://betongforeningen.se/wp-content/uploads/2020/08/doktorshatt-1-2.jpg
END:VEVENT
BEGIN:VEVENT
DTSTART;TZID=Europe/Stockholm:20231011T100000
DTEND;TZID=Europe/Stockholm:20231011T130000
DTSTAMP:20260422T150803
CREATED:20231006T100356Z
LAST-MODIFIED:20231006T100356Z
UID:13412-1697018400-1697029200@betongforeningen.se
SUMMARY:Disputation på LTU
DESCRIPTION:Sensing capability of nanomodified Portland cement composites\nDoktorand: Thanyarat Buasiri\nÄmnesområde: Byggmaterial\nAvhandling: DiVA – Sökresultat (diva-portal.org) \nTid: On 2023-10-11 kl 10.00\nPlats: A109\, Luleå Tekniska Universitet\nVideolänk: meddelas senare\, kontakta LTU \nSpråk: Engelska\nOpponent: Prof Jan Olek\, Lyles School of Civil Engineering\, Purdue Univ\, USA\nHuvudhandledare: Professor Andrzej Cwirzen\, Bygg mtrl LTU\,  Ass proj Karn Habermehl-Cwirzen\, Byggmtrl LTU
URL:https://betongforeningen.se/event/ltu-thanyarat-buasiri/
CATEGORIES:Disputationer och lic seminarier
ATTACH;FMTTYPE=:
END:VEVENT
BEGIN:VEVENT
DTSTART;TZID=Europe/Stockholm:20231011T130000
DTEND;TZID=Europe/Stockholm:20231011T160000
DTSTAMP:20260422T150803
CREATED:20231002T104849Z
LAST-MODIFIED:20231002T104849Z
UID:13405-1697029200-1697040000@betongforeningen.se
SUMMARY:Licentiatseminarium på KTH
DESCRIPTION:Toward Realistic Failure Evaluations for Concrete Buttress Dams\nLicentiand: Jonas Enzell\, Betongbyggnad\nÄmnesområde: Byggvetenskap\, Betongbyggnad\nLicentiatuppsatsen: urn.kb.se/resolve?urn=urn:nbn:se:kth:diva-335979 \nTid: On 2023-10-11 kl 13.00\nPlats: L41\, Drottning Kristinas väg 30\, Stockholm\nVideolänk: https://kth-se.zoom.us/j/69874842225 \nSpråk: Engelska\nGranskare: Ph.D Leif Lia\, NTNU\nHuvudhandledare: Professor Anders Ansell\, Betongbyggnad; Adjunct Professor Erik Nordström\, Betongbyggnad; Ph.D Andreas Sjölander\, Betongbyggnad; Ph.D Richard Malm\, FOI
URL:https://betongforeningen.se/event/licentiatseminarium-pa-kth-2/
CATEGORIES:Disputationer och lic seminarier
END:VEVENT
END:VCALENDAR