BEGIN:VCALENDAR
VERSION:2.0
PRODID:-//Betongföreningen - ECPv6.15.20//NONSGML v1.0//EN
CALSCALE:GREGORIAN
METHOD:PUBLISH
X-WR-CALNAME:Betongföreningen
X-ORIGINAL-URL:https://betongforeningen.se
X-WR-CALDESC:Händelser för Betongföreningen
REFRESH-INTERVAL;VALUE=DURATION:PT1H
X-Robots-Tag:noindex
X-PUBLISHED-TTL:PT1H
BEGIN:VTIMEZONE
TZID:Europe/Stockholm
BEGIN:DAYLIGHT
TZOFFSETFROM:+0100
TZOFFSETTO:+0200
TZNAME:CEST
DTSTART:20210328T010000
END:DAYLIGHT
BEGIN:STANDARD
TZOFFSETFROM:+0200
TZOFFSETTO:+0100
TZNAME:CET
DTSTART:20211031T010000
END:STANDARD
BEGIN:DAYLIGHT
TZOFFSETFROM:+0100
TZOFFSETTO:+0200
TZNAME:CEST
DTSTART:20220327T010000
END:DAYLIGHT
BEGIN:STANDARD
TZOFFSETFROM:+0200
TZOFFSETTO:+0100
TZNAME:CET
DTSTART:20221030T010000
END:STANDARD
BEGIN:DAYLIGHT
TZOFFSETFROM:+0100
TZOFFSETTO:+0200
TZNAME:CEST
DTSTART:20230326T010000
END:DAYLIGHT
BEGIN:STANDARD
TZOFFSETFROM:+0200
TZOFFSETTO:+0100
TZNAME:CET
DTSTART:20231029T010000
END:STANDARD
END:VTIMEZONE
BEGIN:VEVENT
DTSTART;TZID=Europe/Stockholm:20221103T090000
DTEND;TZID=Europe/Stockholm:20221103T170000
DTSTAMP:20260423T170344
CREATED:20220829T130029Z
LAST-MODIFIED:20220829T130029Z
UID:12427-1667466000-1667494800@betongforeningen.se
SUMMARY:Betongdagen 2022
DESCRIPTION:Strukturerat hållbarhetsarbete – så arbetar samhällsbyggnadssektorn med att minska betongens klimatpåverkan\, det är temat för Betongdagen 2022. Den 3 november ses vi på Garnisonen i Stockholm för att diskutera samhällsbyggnadssektorns klimatarbete inom betongområdet. \nDagen vänder sig till alla som arbetar med betong på ett eller annat sätt. Allt från byggherrar och föreskrivande led till tillverkare och entreprenörer. Vi får ta del av frågor kring material\, regelverk och konstruktion. Med tanke på hur situationen ser ut runt om i världen kommer vi också att beröra materialtillgång\, kostnader och prognoser. Vi avslutar dagen med en spännande paneldebatt med representanter från hela samhällsbyggnadssektorn. \nKonferensen är öppen för alla som är intresserade av materialet betong. Läser mer på konferensens egen hemsida\, Betongdagen 2022
URL:https://betongforeningen.se/event/betongdagen-2022/
CATEGORIES:Konferens
END:VEVENT
END:VCALENDAR