BEGIN:VCALENDAR
VERSION:2.0
PRODID:-//Betongföreningen - ECPv6.15.20//NONSGML v1.0//EN
CALSCALE:GREGORIAN
METHOD:PUBLISH
X-WR-CALNAME:Betongföreningen
X-ORIGINAL-URL:https://betongforeningen.se
X-WR-CALDESC:Händelser för Betongföreningen
REFRESH-INTERVAL;VALUE=DURATION:PT1H
X-Robots-Tag:noindex
X-PUBLISHED-TTL:PT1H
BEGIN:VTIMEZONE
TZID:Europe/Stockholm
BEGIN:DAYLIGHT
TZOFFSETFROM:+0100
TZOFFSETTO:+0200
TZNAME:CEST
DTSTART:20230326T010000
END:DAYLIGHT
BEGIN:STANDARD
TZOFFSETFROM:+0200
TZOFFSETTO:+0100
TZNAME:CET
DTSTART:20231029T010000
END:STANDARD
BEGIN:DAYLIGHT
TZOFFSETFROM:+0100
TZOFFSETTO:+0200
TZNAME:CEST
DTSTART:20240331T010000
END:DAYLIGHT
BEGIN:STANDARD
TZOFFSETFROM:+0200
TZOFFSETTO:+0100
TZNAME:CET
DTSTART:20241027T010000
END:STANDARD
BEGIN:DAYLIGHT
TZOFFSETFROM:+0100
TZOFFSETTO:+0200
TZNAME:CEST
DTSTART:20250330T010000
END:DAYLIGHT
BEGIN:STANDARD
TZOFFSETFROM:+0200
TZOFFSETTO:+0100
TZNAME:CET
DTSTART:20251026T010000
END:STANDARD
END:VTIMEZONE
BEGIN:VEVENT
DTSTART;VALUE=DATE:20241024
DTEND;VALUE=DATE:20241026
DTSTAMP:20260420T143856
CREATED:20240201T090837Z
LAST-MODIFIED:20240711T074431Z
UID:26304-1729728000-1729900799@betongforeningen.se
SUMMARY:Betongdagen 2024: 24-25 oktober
DESCRIPTION:Betongdagen 2024\nDen 24-25 oktober i Stockholm på Hilton Slussen\nBoka dagarna i din kalender för Betongdagen 2024.\nByggandet tar ständiga steg i rätt riktning för ett ansvarsfullt förvaltande av jordens resurser. Klimatet står idag i centrum för hela betongsektorns innovativa utveckling. På Betongdagen 2024 får du en spännande inblick i den banbrytande utvecklingen av AI inom samhällsbyggnadssektorn\, nya innovationer inom klimatförbättrad betong\, cirkulär ekonomi och lyckade återbruksprojekt. Hör det senaste om förändringarna i regelverket som ger nya möjligheter för klimatsmart byggande med betong och hur partnering påverkar utvecklingen av byggandet. Få rykande färska prognoser kring Sveriges byggkonjunktur och hör hur politiken vill stötta utvecklingen. \nI år steppar vi upp en nivå och Betongdagen innehåller många nyheter\, bl a ett utökat och breddat program med parallella sessioner\, ett speciellt studentprogram\, exklusiva lokaler\, sponsorföreläsningar\, tävlingar\, betongpub och en festlig middag med prisutdelningar. På fredag förmiddag blir det ett studiebesök på ett intressant bygge i Stockholmsregionen. \nSom ni ser finns det mycket att se fram mot\, så se till att dagarna är bokade i er kalender. \nVi ser redan fram mot att få möta er alla på Betongdagen som är betongsektorns seriösaste\, största och viktigaste event under 2024. \n \nProgram & Anmälan\nSponsorinbjudan\n \nPS. Ni hittar alla föredrag från Betongdagen 2023 på vår Youtube-kanal.
URL:https://betongforeningen.se/event/betongdagen-2024/
LOCATION:Hilton Stockholm Slussen\, Guldgränd 8\, Stockholm
CATEGORIES:Konferens
ATTACH;FMTTYPE=image/jpeg:https://betongforeningen.se/wp-content/uploads/2024/03/betongdagen2024-stillbild-1.jpg
END:VEVENT
END:VCALENDAR