BEGIN:VCALENDAR
VERSION:2.0
PRODID:-//Betongföreningen - ECPv6.15.20//NONSGML v1.0//EN
CALSCALE:GREGORIAN
METHOD:PUBLISH
X-ORIGINAL-URL:https://betongforeningen.se
X-WR-CALDESC:Händelser för Betongföreningen
REFRESH-INTERVAL;VALUE=DURATION:PT1H
X-Robots-Tag:noindex
X-PUBLISHED-TTL:PT1H
BEGIN:VTIMEZONE
TZID:Europe/Stockholm
BEGIN:DAYLIGHT
TZOFFSETFROM:+0100
TZOFFSETTO:+0200
TZNAME:CEST
DTSTART:20210328T010000
END:DAYLIGHT
BEGIN:STANDARD
TZOFFSETFROM:+0200
TZOFFSETTO:+0100
TZNAME:CET
DTSTART:20211031T010000
END:STANDARD
BEGIN:DAYLIGHT
TZOFFSETFROM:+0100
TZOFFSETTO:+0200
TZNAME:CEST
DTSTART:20220327T010000
END:DAYLIGHT
BEGIN:STANDARD
TZOFFSETFROM:+0200
TZOFFSETTO:+0100
TZNAME:CET
DTSTART:20221030T010000
END:STANDARD
BEGIN:DAYLIGHT
TZOFFSETFROM:+0100
TZOFFSETTO:+0200
TZNAME:CEST
DTSTART:20230326T010000
END:DAYLIGHT
BEGIN:STANDARD
TZOFFSETFROM:+0200
TZOFFSETTO:+0100
TZNAME:CET
DTSTART:20231029T010000
END:STANDARD
END:VTIMEZONE
BEGIN:VEVENT
DTSTART;TZID=Europe/Stockholm:20221020T121500
DTEND;TZID=Europe/Stockholm:20221020T130000
DTSTAMP:20260423T014747
CREATED:20221003T132311Z
LAST-MODIFIED:20221003T132311Z
UID:25608-1666268100-1666270800@betongforeningen.se
SUMMARY:Webbinarium: Klimatförbättrad betong – Detta är möjligt!
DESCRIPTION:Betongföreningens Programråd Syd bjuder in till webbinarium torsdagen den 20 oktober 2022 kl 12.15. \nVi följer upp vårens föreläsningar med digitala platsbesök och frågestund. \nKlimatförbättrad betong – Detta är möjligt!\nTvå byggprojekt i syd som använt detta med framgång. \nFilmvisning och frågestund. \nLäs mer och anmäl dig »
URL:https://betongforeningen.se/event/webbinarium-klimatforbattrad-betong-detta-ar-mojligt/
CATEGORIES:Webbinarium
ATTACH;FMTTYPE=image/jpeg:https://betongforeningen.se/wp-content/uploads/2022/10/syd-huvudbild.jpg
END:VEVENT
BEGIN:VEVENT
DTSTART;TZID=Europe/Stockholm:20221026T130000
DTEND;TZID=Europe/Stockholm:20221026T143000
DTSTAMP:20260423T014747
CREATED:20221019T091804Z
LAST-MODIFIED:20221019T091804Z
UID:12626-1666789200-1666794600@betongforeningen.se
SUMMARY:Webbinarium – Klimatförbättrad betong för dricksvattenanläggningar
DESCRIPTION:Inbjudan till webbinarium den 26 oktober kl 13-14.30\nFörfattarna och initiativtagarna till denna nya SVU-rapport bjuder in till ett webinarium för att diskutera tolkning och tillämpning av resultaten. \nWebbinariet vänder sig främst till VA-organisationer men även andra aktörer i leveranskedjan är välkomna: betongleverantörer\, entreprenörer\, konsulter etc. Programmet består av ett antal korta presentationer följt av en längre frågestund. \nDu anmäler dig till webbinariet på denna länk: Anmälan\nI bekräftelsen finns en länk till webbinariet. \nObs! Lägg in mötet i din kalender och spara länken\, ingen annan länk kommer att skickas ut innan webbinariet. \nProgram\n\nBakgrund till rapporten – Jenny Åström Sydvatten\nArbetet med rapporten och presentation av resultaten. Kopplingen till positivlistorna i dricksvattendirektivet – Katarina Malaga och Elisabeth Helsing\, RISE\nSvenskt Vattens arbete med material i kontakt med dricksvatten och kommentar till rapporten – Mats Engdahl\, Svenskt Vatten\nKort presentation av arbetet med rapporten ”Nya betongkonstruktioner i kontakt med dricksvatten – Förslag till riktlinjer” samt hur resultaten i denna förhåller sig till klimatreducerad betong – Per Langfors\, Sweco\nErfarenhet från tillämpning: Sydvattens linje 4 – Fredrik Olsson\, Sydvatten samt Martin Laninge\, Peab\nErfarenhet från tillämpning: Kungsbacka badhus – Niklas Håkansson\, HA Bygg\nTid till frågor
URL:https://betongforeningen.se/event/webbinarium-klimatforbattrad-betong-for-dricksvattenanlaggningar/
CATEGORIES:Webbinarium
ATTACH;FMTTYPE=image/jpeg:https://betongforeningen.se/wp-content/uploads/2022/10/klimatbetong2.jpg
END:VEVENT
END:VCALENDAR