BEGIN:VCALENDAR
VERSION:2.0
PRODID:-//Betongföreningen - ECPv6.15.20//NONSGML v1.0//EN
CALSCALE:GREGORIAN
METHOD:PUBLISH
X-WR-CALNAME:Betongföreningen
X-ORIGINAL-URL:https://betongforeningen.se
X-WR-CALDESC:Händelser för Betongföreningen
REFRESH-INTERVAL;VALUE=DURATION:PT1H
X-Robots-Tag:noindex
X-PUBLISHED-TTL:PT1H
BEGIN:VTIMEZONE
TZID:Europe/Stockholm
BEGIN:DAYLIGHT
TZOFFSETFROM:+0100
TZOFFSETTO:+0200
TZNAME:CEST
DTSTART:20220327T010000
END:DAYLIGHT
BEGIN:STANDARD
TZOFFSETFROM:+0200
TZOFFSETTO:+0100
TZNAME:CET
DTSTART:20221030T010000
END:STANDARD
BEGIN:DAYLIGHT
TZOFFSETFROM:+0100
TZOFFSETTO:+0200
TZNAME:CEST
DTSTART:20230326T010000
END:DAYLIGHT
BEGIN:STANDARD
TZOFFSETFROM:+0200
TZOFFSETTO:+0100
TZNAME:CET
DTSTART:20231029T010000
END:STANDARD
BEGIN:DAYLIGHT
TZOFFSETFROM:+0100
TZOFFSETTO:+0200
TZNAME:CEST
DTSTART:20240331T010000
END:DAYLIGHT
BEGIN:STANDARD
TZOFFSETFROM:+0200
TZOFFSETTO:+0100
TZNAME:CET
DTSTART:20241027T010000
END:STANDARD
END:VTIMEZONE
BEGIN:VEVENT
DTSTART;TZID=Europe/Stockholm:20230201T130000
DTEND;TZID=Europe/Stockholm:20230201T150000
DTSTAMP:20260422T204318
CREATED:20230103T111708Z
LAST-MODIFIED:20230103T111708Z
UID:12820-1675256400-1675263600@betongforeningen.se
SUMMARY:Webbinarium: Betongens roll i samhällets klimatanpassning
DESCRIPTION:Dag: Onsdagen den 1 februari 2023\nTid: 13-15\nPlats: Webbinarium\nArrangör: Svenska Betongföreningens forskningsråd \nKlimatförändringarna går inte att förhindra men genom kraftfulla åtgärder kan de bromsas. Redan en temperaturhöjning på 1\,5°C  ger mätbara effekter på havsnivåer\, nederbörd\, torka och risker för översvämningar\, kraftigare vindlaster och bränder. Vi måste anpassa den byggda miljön till klimatförändringarna så att den kan skyddas mot extrema händelser som kan vara både intensivare och mer frekventa än tidigare. \nInom betongområdet har det under lång tid arbetats intensivt med att minska dess klimatpåverkan. Fokus har legat och ligger på alternativa bindemedel. Men betongen har även en viktig roll för anpassning. Exempel är skyddsvallar\, förstärkning av dammar\, nya dagvattensystem och vattengenomsläppliga ytor i städer. Dessa frågor kommer att diskuteras på detta webbinarium. \nProgram och anmälan »
URL:https://betongforeningen.se/event/webbinarium-betongens-roll-i-samhallets-klimatanpassning/
CATEGORIES:Webbinarium
ATTACH;FMTTYPE=image/jpeg:https://betongforeningen.se/wp-content/uploads/2023/01/klimatanpassning2.jpg
END:VEVENT
END:VCALENDAR