BEGIN:VCALENDAR
VERSION:2.0
PRODID:-//Betongföreningen - ECPv6.15.20//NONSGML v1.0//EN
CALSCALE:GREGORIAN
METHOD:PUBLISH
X-ORIGINAL-URL:https://betongforeningen.se
X-WR-CALDESC:Händelser för Betongföreningen
REFRESH-INTERVAL;VALUE=DURATION:PT1H
X-Robots-Tag:noindex
X-PUBLISHED-TTL:PT1H
BEGIN:VTIMEZONE
TZID:Europe/Stockholm
BEGIN:DAYLIGHT
TZOFFSETFROM:+0100
TZOFFSETTO:+0200
TZNAME:CEST
DTSTART:20220327T010000
END:DAYLIGHT
BEGIN:STANDARD
TZOFFSETFROM:+0200
TZOFFSETTO:+0100
TZNAME:CET
DTSTART:20221030T010000
END:STANDARD
BEGIN:DAYLIGHT
TZOFFSETFROM:+0100
TZOFFSETTO:+0200
TZNAME:CEST
DTSTART:20230326T010000
END:DAYLIGHT
BEGIN:STANDARD
TZOFFSETFROM:+0200
TZOFFSETTO:+0100
TZNAME:CET
DTSTART:20231029T010000
END:STANDARD
BEGIN:DAYLIGHT
TZOFFSETFROM:+0100
TZOFFSETTO:+0200
TZNAME:CEST
DTSTART:20240331T010000
END:DAYLIGHT
BEGIN:STANDARD
TZOFFSETFROM:+0200
TZOFFSETTO:+0100
TZNAME:CET
DTSTART:20241027T010000
END:STANDARD
END:VTIMEZONE
BEGIN:VEVENT
DTSTART;TZID=Europe/Stockholm:20230329T123000
DTEND;TZID=Europe/Stockholm:20230329T163000
DTSTAMP:20260422T192343
CREATED:20230214T173233Z
LAST-MODIFIED:20230214T173233Z
UID:25613-1680093000-1680107400@betongforeningen.se
SUMMARY:Binders and concrete for the next decade
DESCRIPTION:Join ECSN on the journey to more sustainable construction!\nNew webinar: Binders and concrete for the next decade\nThe webinar is free of charge.\n\nECSN is the network of European concrete societies comprising 13 members. In this new webinar\, we have brought together experts from within ECSN circles to present examples from various European countries on how the concrete construction sector can reduce its impact on the climate.\nThis is the second webinar that ECSN has organised in the field of sustainable concrete. The first webinar was arranged on 25 November 2021 on the topic ”Concrete and sustainability – an update on ongoing efforts in Europe”. \nIt is well known that the cement and concrete industry contributes significantly to global CO2 emissions. But at the same time\, this industry is now making a huge effort to solve these challenges. Solutions are now being developed using Carbon Capture and Storage (CCS) or Carbon Capture\, Utilisation and Storage (CCUS)\, or a combination of both. Other solutions are to develop new composite cements where the clinker is replaced partly with new supplementary cementitious materials (SCMs). Potential approaches are also to re-carbonate old binders to enable them to function as new SCMs. Examples of all these efforts will be presented and discussed in this webinar. \nWelcome to the webinar and be a part of the future!\n \nProgram och anmälan
URL:https://betongforeningen.se/event/binders-and-concrete-for-the-next-decade/
CATEGORIES:Webbinarium
ATTACH;FMTTYPE=image/jpeg:https://betongforeningen.se/wp-content/uploads/2023/02/wall-with-leaves-1-scaled-1.jpg
END:VEVENT
END:VCALENDAR