BEGIN:VCALENDAR
VERSION:2.0
PRODID:-//Betongföreningen - ECPv6.15.20//NONSGML v1.0//EN
CALSCALE:GREGORIAN
METHOD:PUBLISH
X-ORIGINAL-URL:https://betongforeningen.se
X-WR-CALDESC:Händelser för Betongföreningen
REFRESH-INTERVAL;VALUE=DURATION:PT1H
X-Robots-Tag:noindex
X-PUBLISHED-TTL:PT1H
BEGIN:VTIMEZONE
TZID:Europe/Stockholm
BEGIN:DAYLIGHT
TZOFFSETFROM:+0100
TZOFFSETTO:+0200
TZNAME:CEST
DTSTART:20220327T010000
END:DAYLIGHT
BEGIN:STANDARD
TZOFFSETFROM:+0200
TZOFFSETTO:+0100
TZNAME:CET
DTSTART:20221030T010000
END:STANDARD
BEGIN:DAYLIGHT
TZOFFSETFROM:+0100
TZOFFSETTO:+0200
TZNAME:CEST
DTSTART:20230326T010000
END:DAYLIGHT
BEGIN:STANDARD
TZOFFSETFROM:+0200
TZOFFSETTO:+0100
TZNAME:CET
DTSTART:20231029T010000
END:STANDARD
BEGIN:DAYLIGHT
TZOFFSETFROM:+0100
TZOFFSETTO:+0200
TZNAME:CEST
DTSTART:20240331T010000
END:DAYLIGHT
BEGIN:STANDARD
TZOFFSETFROM:+0200
TZOFFSETTO:+0100
TZNAME:CET
DTSTART:20241027T010000
END:STANDARD
END:VTIMEZONE
BEGIN:VEVENT
DTSTART;TZID=Europe/Stockholm:20230516T130000
DTEND;TZID=Europe/Stockholm:20230516T161500
DTSTAMP:20260422T181350
CREATED:20230404T070807Z
LAST-MODIFIED:20230404T070807Z
UID:25616-1684242000-1684253700@betongforeningen.se
SUMMARY:Webbinarium: Exposure Resistance Classes (ERC)
DESCRIPTION:﻿ \nWebbinarium: Exposure Resistance Classes (ERC)\nTisdag 16 maj kl 13.00-16.15. Ingen avgift.  \nEuropa kraftsamlar med nytt koncept för klimatförbättrad betong – vill du vara med och påverka svensk tillämpning?\nInom det europeiska standardiseringsarbetet håller sedan flera år tillbaka beständighetskonceptet Exposure Resistance Classes (ERC) på att utvecklas. Konceptet är baserat på funktionsprovning och innebär att betongen grupperas i motståndsklasser med hänsyn till främst kloridinträngning och karbonatisering. \nERC förväntas underlätta nya klimatförbättrade materialsammansättningar samt minska “onödiga” säkerhetsmarginaler i nuvarande nationella beständighetsregler i Europa. ERC omfattas av nästa version av Eurokod 2 (förväntad publicering 2023) och nästa EN 206 (som tidigast antas kunna publiceras 2026). \nNationella anpassningar är möjliga\, varför det är viktigt att vi i Sverige redan nu börjar förbereda hur ERC ska tillämpas nationellt. Det gör vi genom att ta fram ett förslag på hur nationella val i Eurokod 2 bör utformas och hur SS 137003 bör revideras. \nFör att förbereda en introduktion av ERC i Sverige planerar Betongföreningen att etablera en ERC-kommitté. Digitalt startmöte med hearing hålls 16 maj kl 13-16 med syfte att ge information om ERC-konceptet\, samt hur myndigheterna ser på tillämpningen och diskutera hur kommittén ska organiseras och finansieras. \n  \nProgram\n\n\n\n\n13.00-13.05\nBetongföreningen hälsar välkommen \nHenrik Vinell\, ordförande Betongföreningen\n\n\n13.05-13.25\nERC-konceptet: Översikt och möjligheter\nMarkus Peterson\, Svensk Betong\, ordförande i SIS tekniska kommitté för betong (TK190)\n\n\n13.25-13.45\nERC-konceptet enligt Eurokod 2\nMikael Hallgren\, Tyréns\, ordförande i europeiska arbetsgruppen för ERC i kommande Eurokod 2\n\n\n13.45-14.05\nERC-konceptet enligt kommande EN206\nAnders Lindvall\, Thomas Concrete Group\n\n\n14.05-14.25\nERC: Beständighet och provningsmetoder\nElisabeth Helsing\, RISE\n\n\n14.25-14.40\nPaus\n\n\n\n Nationella val – hur ser myndigheterna på ERC-konceptet?\n\n\n14.40-14.55\nBjörn Mattsson\, Transportstyrelsen\n\n\n14.55-15.10\nOskar Ivanov Larsson\, Boverket\n\n\n\n Beställarnas syn på ERC-konceptet\n\n\n15.10-15.25\nAnders Wiberg\, Trafikverket\n\n\n15.25-15.40\nIad Saleh/Jonas Magnusson\, NCC\n\n\n15.40-15.55\nHans Hedlund/Erik Liljeby\, Skanska\n\n\n15.55-16.15\nDiskussion\n\n\n16.15\nAvslutning\n\n\n\n\n  \nVideoinspelning\nDu kan se webbinariet i efterhand på föreningens YouTube-kanal »
URL:https://betongforeningen.se/event/webbinarium-exposure-resistance-classes-erc/
CATEGORIES:Webbinarium
ATTACH;FMTTYPE=image/jpeg:https://betongforeningen.se/wp-content/uploads/2023/04/erc-16maj-bro-600px.jpg
END:VEVENT
END:VCALENDAR