BEGIN:VCALENDAR
VERSION:2.0
PRODID:-//Betongföreningen - ECPv6.15.20//NONSGML v1.0//EN
CALSCALE:GREGORIAN
METHOD:PUBLISH
X-WR-CALNAME:Betongföreningen
X-ORIGINAL-URL:https://betongforeningen.se
X-WR-CALDESC:Händelser för Betongföreningen
REFRESH-INTERVAL;VALUE=DURATION:PT1H
X-Robots-Tag:noindex
X-PUBLISHED-TTL:PT1H
BEGIN:VTIMEZONE
TZID:Europe/Stockholm
BEGIN:DAYLIGHT
TZOFFSETFROM:+0100
TZOFFSETTO:+0200
TZNAME:CEST
DTSTART:20220327T010000
END:DAYLIGHT
BEGIN:STANDARD
TZOFFSETFROM:+0200
TZOFFSETTO:+0100
TZNAME:CET
DTSTART:20221030T010000
END:STANDARD
BEGIN:DAYLIGHT
TZOFFSETFROM:+0100
TZOFFSETTO:+0200
TZNAME:CEST
DTSTART:20230326T010000
END:DAYLIGHT
BEGIN:STANDARD
TZOFFSETFROM:+0200
TZOFFSETTO:+0100
TZNAME:CET
DTSTART:20231029T010000
END:STANDARD
BEGIN:DAYLIGHT
TZOFFSETFROM:+0100
TZOFFSETTO:+0200
TZNAME:CEST
DTSTART:20240331T010000
END:DAYLIGHT
BEGIN:STANDARD
TZOFFSETFROM:+0200
TZOFFSETTO:+0100
TZNAME:CET
DTSTART:20241027T010000
END:STANDARD
END:VTIMEZONE
BEGIN:VEVENT
DTSTART;TZID=Europe/Stockholm:20231129T120000
DTEND;TZID=Europe/Stockholm:20231129T131500
DTSTAMP:20260422T072545
CREATED:20231122T083555Z
LAST-MODIFIED:20231122T083555Z
UID:13530-1701259200-1701263700@betongforeningen.se
SUMMARY:Webbinarium: Klimatförbättrad betong ur ett tekniskt perspektiv för Anläggning och VA
DESCRIPTION:Betongföreningen via Programråd Syd bjuder in till webbinarium: \nKlimatförbättrad betong ur ett tekniskt perspektiv för Anläggning och VA\nOnsdag 29 november kl 12–13.15\n\nKlimatförbättrad-betong – vad kan användandet av den ha för tekniska skillnader – vilka fördelar har den och kan det finnas någon nackdel.\n\nBetongföreningen vill hjälpa till att ge en bild av nuläget för klimatförbättrad betong och se framåt med exempel på vart arbetet med betongen är på väg. \nKlimatförbättrad betong i kontakt med dricksvatten\nÅsa Nilsson – Heidelberg Materials Cement Sverige \nÅsa berättar om frågeställningar gällande kemiskt innehåll hos klimatförbättrad betong (framför allt med flygaska)\, i kontakt med dricksvatten. \n  \nKlimatförbättrad betong ur ett beständighetsperspektiv\nOscar Linderoth – Swerock \nOskar Linderoth berättar om erfarenheter och forskning kring hur klimatförbättrad betong med alternativa bindemedel fungerar i kontakt med dricks- och avloppsvatten. \n  \nEtt nytt avloppsreningssystem för framtida generationer\nGöran Johnsson – VA SYD\nHenrik Sennfält – Moresco Projektledning \nSjölundaverket i Malmö står inför stor om- och utbyggnad. Göran och Henrik berättar om hur arbetet planeras och vilka betongfrågeställningar som finns. \n  \nErfarenheter från arbetsplatsen\nPatrik Larsson – Skanska \nPraktiska\, arbetsmiljötekniska och ekonomiska aspekter av självkompakterande betong i anläggningskonstruktioner. Patrik har erfarenhet av användande av ”Anläggningscement FA” i bl a broar och kajer. \n  \nDialog – Frågestund\nVi ser fram emot möjligheten till att få i gång ett samtal där erfarenheter kan speglas. Föreläsarna och Programråds syds medlemmar försöker delge sina kunskaper och erfarenheter i ämnet. \n  \nVälkomna!\n  \nAnmälan är stängd. 
URL:https://betongforeningen.se/event/webbinarium-klimatforbattrad-betong-ur-ett-tekniskt-perspektiv-for-anlaggning-och-va/
CATEGORIES:Webbinarium
ATTACH;FMTTYPE=image/jpeg:https://betongforeningen.se/wp-content/uploads/2023/11/syd-klimatfrb-betong.jpg
END:VEVENT
END:VCALENDAR