BEGIN:VCALENDAR
VERSION:2.0
PRODID:-//Betongföreningen - ECPv6.15.20//NONSGML v1.0//EN
CALSCALE:GREGORIAN
METHOD:PUBLISH
X-ORIGINAL-URL:https://betongforeningen.se
X-WR-CALDESC:Händelser för Betongföreningen
REFRESH-INTERVAL;VALUE=DURATION:PT1H
X-Robots-Tag:noindex
X-PUBLISHED-TTL:PT1H
BEGIN:VTIMEZONE
TZID:Europe/Stockholm
BEGIN:DAYLIGHT
TZOFFSETFROM:+0100
TZOFFSETTO:+0200
TZNAME:CEST
DTSTART:20230326T010000
END:DAYLIGHT
BEGIN:STANDARD
TZOFFSETFROM:+0200
TZOFFSETTO:+0100
TZNAME:CET
DTSTART:20231029T010000
END:STANDARD
BEGIN:DAYLIGHT
TZOFFSETFROM:+0100
TZOFFSETTO:+0200
TZNAME:CEST
DTSTART:20240331T010000
END:DAYLIGHT
BEGIN:STANDARD
TZOFFSETFROM:+0200
TZOFFSETTO:+0100
TZNAME:CET
DTSTART:20241027T010000
END:STANDARD
BEGIN:DAYLIGHT
TZOFFSETFROM:+0100
TZOFFSETTO:+0200
TZNAME:CEST
DTSTART:20250330T010000
END:DAYLIGHT
BEGIN:STANDARD
TZOFFSETFROM:+0200
TZOFFSETTO:+0100
TZNAME:CET
DTSTART:20251026T010000
END:STANDARD
END:VTIMEZONE
BEGIN:VEVENT
DTSTART;TZID=Europe/Stockholm:20240321T130000
DTEND;TZID=Europe/Stockholm:20240321T163000
DTSTAMP:20260422T035537
CREATED:20240306T114622Z
LAST-MODIFIED:20240306T114622Z
UID:13775-1711026000-1711038600@betongforeningen.se
SUMMARY:Webinar on 3D Concrete Printing
DESCRIPTION:Webinar on 3D Concrete Printing\nThursday\, March 21\, 2024\, at 1.00 to 4.30 p.m.\n3D concrete printing (3DCP) is a new and exciting technology that may change the concrete production. Several interesting R&D projects on 3DPC is currently ongoing in universities\, research institutes and companies in the Nordic countries. Svenska Betongföreningen (The Swedish Concrete Association) is organizing a webinar on 3DCP in order to disseminate knowledge about this technology. The webinar is also a part of the Nordic co-operation inside the Nordic Concrete Federation which board has decided to start a series of webinars on various hot topics. \nWatch the full webinar on YouTube \n  \nProgram\n\n\n\n\nNo\nSpeaker (accepted)\nAffiliation\nPreliminary heading\n\n\n\n\n0\nJohan Silfwerbrand\nKTH\, SE\nWelcoming address\n\n\n1\nThomas Juul Andersen\nTeknologisk Institut\, DK\nN3XTCON\, focusing on material development for 3DCP\n\n\n2\nHelena Westerlind\nKTH\, SE\nTowards the Application of Meso-structures in 3DCP\n\n\n3\nJosé Hernandez Vargas\nKTH\, SE\nDesign for 3D Concrete Printing\n\n\nShort break\n\n\n4\nJon Sprangenberg\nDTU\, DK\nNumerical simulation of 3D concrete printing\n\n\n5\nRoberto Naboni\nUniversity of Southern Denmark\, DK\nComputational Design Strategies for Structural 3D Printed Architecture\n\n\n6\nHenry Unterreiner\nHyperion Robitics\, FI\nStructural optimization of concrete structures using 3D printing\n\n\nShort break\n\n\n7\nGregor Fischer\nDTU. DK\nInstallation of reinforcement in 3-D printed concrete structures\n\n\n8\nOle-Bjorn Moe\nMechatronics Innovation Lab\, Grimstad\, NO\nImplementing 3DCP in the Norwegian construction industry\n\n\n9\nJan Suchorzewski\nRISE\, SE\nIndustrial applications of 3DCP – materials\, printing technology and  product development\n\n\n10\nJohan Silfwerbrand\nKTH\, SE\nClosing\n\n\n\n\n  \n\n\n\n\n\n\n\n\n 
URL:https://betongforeningen.se/event/webinar-on-3d-concrete-printing/
CATEGORIES:Webbinarium
ATTACH;FMTTYPE=image/jpeg:https://betongforeningen.se/wp-content/uploads/2024/03/3Dprinting.jpg
END:VEVENT
END:VCALENDAR