BEGIN:VCALENDAR
VERSION:2.0
PRODID:-//Betongföreningen - ECPv6.15.20//NONSGML v1.0//EN
CALSCALE:GREGORIAN
METHOD:PUBLISH
X-WR-CALNAME:Betongföreningen
X-ORIGINAL-URL:https://betongforeningen.se
X-WR-CALDESC:Händelser för Betongföreningen
REFRESH-INTERVAL;VALUE=DURATION:PT1H
X-Robots-Tag:noindex
X-PUBLISHED-TTL:PT1H
BEGIN:VTIMEZONE
TZID:Europe/Stockholm
BEGIN:DAYLIGHT
TZOFFSETFROM:+0100
TZOFFSETTO:+0200
TZNAME:CEST
DTSTART:20230326T010000
END:DAYLIGHT
BEGIN:STANDARD
TZOFFSETFROM:+0200
TZOFFSETTO:+0100
TZNAME:CET
DTSTART:20231029T010000
END:STANDARD
BEGIN:DAYLIGHT
TZOFFSETFROM:+0100
TZOFFSETTO:+0200
TZNAME:CEST
DTSTART:20240331T010000
END:DAYLIGHT
BEGIN:STANDARD
TZOFFSETFROM:+0200
TZOFFSETTO:+0100
TZNAME:CET
DTSTART:20241027T010000
END:STANDARD
BEGIN:DAYLIGHT
TZOFFSETFROM:+0100
TZOFFSETTO:+0200
TZNAME:CEST
DTSTART:20250330T010000
END:DAYLIGHT
BEGIN:STANDARD
TZOFFSETFROM:+0200
TZOFFSETTO:+0100
TZNAME:CET
DTSTART:20251026T010000
END:STANDARD
END:VTIMEZONE
BEGIN:VEVENT
DTSTART;TZID=Europe/Stockholm:20240425T130000
DTEND;TZID=Europe/Stockholm:20240425T150000
DTSTAMP:20260422T024644
CREATED:20240313T171114Z
LAST-MODIFIED:20240425T125211Z
UID:13827-1714050000-1714057200@betongforeningen.se
SUMMARY:Betongföreningens årsmöte 2024 samt genomgång av Klimatguiden
DESCRIPTION:Webbinarium 25 april\nBetongföreningens årsmöte 2024 samt genomgång av Klimatguiden\nTid: Torsdagen den 25 april kl. 13.00-15.00 \nKl 13–14: Genomgång av Betongföreningens guide för reduktion av betongkonstruktioners klimatpåverkan\, klimatguiden.betongforeningen.se. (Richard McCarthy)\nKl 14–15: Årsmötesförhandlingar \nPlats: Zoom – länk mejlas till anmälda deltagare i god tid före webbinariet\nAnmälan: Via formulär nedan\nKontakt: Administratör Ylva Brunnberg\, admin@betongforeningen.se eller mobil/sms: 073-656 0903 \nVerksamhetsberättelsen för 2023 finns här »\nDu hittar äldre verksamhetsberättelser från 2002 och framåt här » \n  \nÅrsmötesförhandlingar\nDAGORDNING \n1. Årsmötets öppnande\n2. Val av mötesordförande\, mötessekreterare och justeringsman\n3. Röstlängd\n4. Godkännande av dagordning\n5. Kallelsen\n6. Verksamhetsberättelsen\n7. Revisionsberättelsen\n8. Beslut om resultat- och balansräkningar\, disposition av överskott samt ansvarsfrihet\n9. Val av styrelse\, revisorer och valberedning\n10. Val av representanter för föreningens aktier vid bolagsstämman i Servicebolaget\n11. Budget och medlemsavgifter\n12. Meddelanden\n13. Övriga frågor\n14. Mötets avslutande \n  \nAnmälan är stängd.
URL:https://betongforeningen.se/event/betongforeningens-arsmote-2024-samt-genomgang-av-klimatguiden/
CATEGORIES:Årsmöte,Webbinarium
ATTACH;FMTTYPE=image/jpeg:https://betongforeningen.se/wp-content/uploads/2024/03/arsmote-illustration.jpg
END:VEVENT
END:VCALENDAR