BEGIN:VCALENDAR
VERSION:2.0
PRODID:-//Betongföreningen - ECPv6.15.20//NONSGML v1.0//EN
CALSCALE:GREGORIAN
METHOD:PUBLISH
X-WR-CALNAME:Betongföreningen
X-ORIGINAL-URL:https://betongforeningen.se
X-WR-CALDESC:Händelser för Betongföreningen
REFRESH-INTERVAL;VALUE=DURATION:PT1H
X-Robots-Tag:noindex
X-PUBLISHED-TTL:PT1H
BEGIN:VTIMEZONE
TZID:Europe/Stockholm
BEGIN:DAYLIGHT
TZOFFSETFROM:+0100
TZOFFSETTO:+0200
TZNAME:CEST
DTSTART:20230326T010000
END:DAYLIGHT
BEGIN:STANDARD
TZOFFSETFROM:+0200
TZOFFSETTO:+0100
TZNAME:CET
DTSTART:20231029T010000
END:STANDARD
BEGIN:DAYLIGHT
TZOFFSETFROM:+0100
TZOFFSETTO:+0200
TZNAME:CEST
DTSTART:20240331T010000
END:DAYLIGHT
BEGIN:STANDARD
TZOFFSETFROM:+0200
TZOFFSETTO:+0100
TZNAME:CET
DTSTART:20241027T010000
END:STANDARD
BEGIN:DAYLIGHT
TZOFFSETFROM:+0100
TZOFFSETTO:+0200
TZNAME:CEST
DTSTART:20250330T010000
END:DAYLIGHT
BEGIN:STANDARD
TZOFFSETFROM:+0200
TZOFFSETTO:+0100
TZNAME:CET
DTSTART:20251026T010000
END:STANDARD
END:VTIMEZONE
BEGIN:VEVENT
DTSTART;TZID=Europe/Stockholm:20241114T090000
DTEND;TZID=Europe/Stockholm:20241114T100000
DTSTAMP:20260421T170626
CREATED:20241106T095038Z
LAST-MODIFIED:20241106T095106Z
UID:29163-1731574800-1731578400@betongforeningen.se
SUMMARY:Online evenemang: Gjutning i kall väderlek
DESCRIPTION:Gjutning i kall väderlek\n\n\nTors\, 14 nov. 2024\, kl. 09:00 – 10:00\n\n\nOnline evenemang organiserat av (anmäl deltagande via länken): Heidelberg Materials Cement Sverige\n\n\n\n\nEvenemangslänk: https://www.youtube.com/watch?v=7AT9R4yUtkU
URL:https://betongforeningen.se/event/gjutning-i-kall-vaderlek/
LOCATION:Online
CATEGORIES:Webbinarium
ATTACH;FMTTYPE=image/png:https://betongforeningen.se/wp-content/uploads/2024/11/gjuta-i-kall-vaderlek.png
END:VEVENT
END:VCALENDAR