BEGIN:VCALENDAR
VERSION:2.0
PRODID:-//Betongföreningen - ECPv6.15.20//NONSGML v1.0//EN
CALSCALE:GREGORIAN
METHOD:PUBLISH
X-ORIGINAL-URL:https://betongforeningen.se
X-WR-CALDESC:Händelser för Betongföreningen
REFRESH-INTERVAL;VALUE=DURATION:PT1H
X-Robots-Tag:noindex
X-PUBLISHED-TTL:PT1H
BEGIN:VTIMEZONE
TZID:Europe/Stockholm
BEGIN:DAYLIGHT
TZOFFSETFROM:+0100
TZOFFSETTO:+0200
TZNAME:CEST
DTSTART:20230326T010000
END:DAYLIGHT
BEGIN:STANDARD
TZOFFSETFROM:+0200
TZOFFSETTO:+0100
TZNAME:CET
DTSTART:20231029T010000
END:STANDARD
BEGIN:DAYLIGHT
TZOFFSETFROM:+0100
TZOFFSETTO:+0200
TZNAME:CEST
DTSTART:20240331T010000
END:DAYLIGHT
BEGIN:STANDARD
TZOFFSETFROM:+0200
TZOFFSETTO:+0100
TZNAME:CET
DTSTART:20241027T010000
END:STANDARD
BEGIN:DAYLIGHT
TZOFFSETFROM:+0100
TZOFFSETTO:+0200
TZNAME:CEST
DTSTART:20250330T010000
END:DAYLIGHT
BEGIN:STANDARD
TZOFFSETFROM:+0200
TZOFFSETTO:+0100
TZNAME:CET
DTSTART:20251026T010000
END:STANDARD
END:VTIMEZONE
BEGIN:VEVENT
DTSTART;TZID=Europe/Stockholm:20241218T130000
DTEND;TZID=Europe/Stockholm:20241218T160000
DTSTAMP:20260421T154854
CREATED:20241117T114032Z
LAST-MODIFIED:20241117T114927Z
UID:29328-1734526800-1734537600@betongforeningen.se
SUMMARY:Webbinarium: Alternativ armering i betongkonstruktioner
DESCRIPTION:Inbjudan till webbinarium/workshop\nAlternativ armering i betongkonstruktioner\nOnsdagen den 18 december 13.00-16.00 \nIdag finns det möjlighet att använda alternativ armering i stället för traditionell stålarmering. Den drivande faktorn är framför allt beständighet och att traditionellt stål rostar\, men det kan även finnas andra fördelar med alternativ armering. Som exempel kan nämnas elektromagnetisk neutralitet samt användning av alternativ armering i temporära konstruktioner som exempelvis formbyggnad. I vissa tillämpningar kan rostfri armering vara aktuellt\, i andra kompositarmering. På detta webbinarium diskuteras möjligheterna med såväl rostfri armering som kompositarmering ur ett konstruktionsperspektiv men även tillämpningar kommer att presenteras. \n  \nProgram\n\n\n\n13:00\nInledning – syftet med webbinariet – Ingemar Löfgren\, Thomas Concrete Group\n\n\n\n13:10\nAlternativ armering – varför då? – Björn Täljsten\, LTU\n\n\n\n13:30\nEurokoden och alternativ armering – Mikael Hallgren\, Tyréns\n\n\n\n14:00\nRostfri armering – fördelar och nackdelar – Johan Silfwerbrand\, KTH\n\n\n\n14:20\nTextilarmering – Gabriel Edefors\, Chalmers\n\n\n\n14:50\nPaus\n\n\n\n15:00\nKompositarmering i betong – erfarenheter och dimensionering enligt eurokoden – Björn Täljsten\, LTU\n\n\n\n15:45\nDiskussion\n\n\n\n16:00\nSlut\n\n\nKostnadsfritt för medlemmar (enskilda och korporativa)\, 400 kr + moms för icke medlemmar (medlemskap kostar 280 kr\, studerande 50 kr\, om du är under 30 år är medlemskapet gratis). \nLänk för anslutning skickas ut via epost. \n  \nHjärtlig välkomna! \nSvenska Betongföreningen\nBetongforskningsrådet \n  \nAnmälan
URL:https://betongforeningen.se/event/webbinarium-alternativ-armering-i-betongkonstruktioner/
LOCATION:Zoom
CATEGORIES:Webbinarium,Workshop
ATTACH;FMTTYPE=image/jpeg:https://betongforeningen.se/wp-content/uploads/2024/11/Armeringsarbete-med-FRP-armering.jpg
END:VEVENT
END:VCALENDAR