BEGIN:VCALENDAR
VERSION:2.0
PRODID:-//Betongföreningen - ECPv6.15.20//NONSGML v1.0//EN
CALSCALE:GREGORIAN
METHOD:PUBLISH
X-WR-CALNAME:Betongföreningen
X-ORIGINAL-URL:https://betongforeningen.se
X-WR-CALDESC:Händelser för Betongföreningen
REFRESH-INTERVAL;VALUE=DURATION:PT1H
X-Robots-Tag:noindex
X-PUBLISHED-TTL:PT1H
BEGIN:VTIMEZONE
TZID:Europe/Stockholm
BEGIN:DAYLIGHT
TZOFFSETFROM:+0100
TZOFFSETTO:+0200
TZNAME:CEST
DTSTART:20240331T010000
END:DAYLIGHT
BEGIN:STANDARD
TZOFFSETFROM:+0200
TZOFFSETTO:+0100
TZNAME:CET
DTSTART:20241027T010000
END:STANDARD
BEGIN:DAYLIGHT
TZOFFSETFROM:+0100
TZOFFSETTO:+0200
TZNAME:CEST
DTSTART:20250330T010000
END:DAYLIGHT
BEGIN:STANDARD
TZOFFSETFROM:+0200
TZOFFSETTO:+0100
TZNAME:CET
DTSTART:20251026T010000
END:STANDARD
BEGIN:DAYLIGHT
TZOFFSETFROM:+0100
TZOFFSETTO:+0200
TZNAME:CEST
DTSTART:20260329T010000
END:DAYLIGHT
BEGIN:STANDARD
TZOFFSETFROM:+0200
TZOFFSETTO:+0100
TZNAME:CET
DTSTART:20261025T010000
END:STANDARD
END:VTIMEZONE
BEGIN:VEVENT
DTSTART;TZID=Europe/Stockholm:20250410T100000
DTEND;TZID=Europe/Stockholm:20250410T110000
DTSTAMP:20260421T100617
CREATED:20250407T100750Z
LAST-MODIFIED:20250407T100818Z
UID:31153-1744279200-1744282800@betongforeningen.se
SUMMARY:Webbinarium om evoZero 10 april
DESCRIPTION:Webbinarium om evoZero – unik cementprodukt som möjliggör betongbyggande utan klimatavtryck\n  \nVad som startade som en visionär idé i Brevik i Norge för ett decennium sedan förverkligas nu i form av ett världsunikt industriprojekt. Den första koldioxidinfångningsanläggningen inom cementindustrin står klar\, och vi kan därför presentera evoZero – världens första cementprodukt som möjliggör betongbyggande med noll nettoutsläpp. \nVälkommen till vårt webbinarium 10 april kl. 10.00 – 11.00 \nUnder vårt webbinarium får du en unik inblick i hur denna banbrytande produkt kan omvandla branschen. \nAnmäl dig här »\nAnmäl dig redan idag\, en länk till webbinariet skickas ut dagen före webbinariet. \nVälkommen!  \nMagnus Ohlsson\, vd och Mats Hellström försäljningschef på Heidelberg Materials Cement Sverige \n 
URL:https://betongforeningen.se/event/webbinarium-om-evozero/
LOCATION:Webbinarium
CATEGORIES:Webbinarium
ATTACH;FMTTYPE=image/jpeg:https://betongforeningen.se/wp-content/uploads/2025/04/evoZero-img.jpg
END:VEVENT
END:VCALENDAR