BEGIN:VCALENDAR
VERSION:2.0
PRODID:-//Betongföreningen - ECPv6.15.20//NONSGML v1.0//EN
CALSCALE:GREGORIAN
METHOD:PUBLISH
X-ORIGINAL-URL:https://betongforeningen.se
X-WR-CALDESC:Händelser för Betongföreningen
REFRESH-INTERVAL;VALUE=DURATION:PT1H
X-Robots-Tag:noindex
X-PUBLISHED-TTL:PT1H
BEGIN:VTIMEZONE
TZID:Europe/Stockholm
BEGIN:DAYLIGHT
TZOFFSETFROM:+0100
TZOFFSETTO:+0200
TZNAME:CEST
DTSTART:20250330T010000
END:DAYLIGHT
BEGIN:STANDARD
TZOFFSETFROM:+0200
TZOFFSETTO:+0100
TZNAME:CET
DTSTART:20251026T010000
END:STANDARD
BEGIN:DAYLIGHT
TZOFFSETFROM:+0100
TZOFFSETTO:+0200
TZNAME:CEST
DTSTART:20260329T010000
END:DAYLIGHT
BEGIN:STANDARD
TZOFFSETFROM:+0200
TZOFFSETTO:+0100
TZNAME:CET
DTSTART:20261025T010000
END:STANDARD
BEGIN:DAYLIGHT
TZOFFSETFROM:+0100
TZOFFSETTO:+0200
TZNAME:CEST
DTSTART:20270328T010000
END:DAYLIGHT
BEGIN:STANDARD
TZOFFSETFROM:+0200
TZOFFSETTO:+0100
TZNAME:CET
DTSTART:20271031T010000
END:STANDARD
END:VTIMEZONE
BEGIN:VEVENT
DTSTART;TZID=Europe/Stockholm:20260223T170000
DTEND;TZID=Europe/Stockholm:20260223T190000
DTSTAMP:20260425T154324
CREATED:20260204T143408Z
LAST-MODIFIED:20260402T102838Z
UID:32702-1771866000-1771873200@betongforeningen.se
SUMMARY:23 februari: Seminarium i Lund: Den optimala Betongen? – Robotiserat eller Hybrid?
DESCRIPTION:Betongföreningen via Programråd Syd\ninbjuder till seminarium: \nDen optimala Betongen? – Robotiserat eller Hybrid?\nVi träffas tillsammans med studenter i en av tekniska högskolans nya spännande byggnader för att höra och utveckla dialogen kring de nyare utvecklingarna inom och kring betongteknik. \nBetongföreningen har fått förmånen att besöka Teknodromen och få en guidning kring några aspekter av den moderna betongtekniken och betongkonstruktion: \nRobert Larsson – Heidelberg Materials Cement / LTH – Robotiserat betong byggande\nCarl Larsson – Specialist Huskonstruktion – Hybridkonstruktioner Betong/Trä\nMartin Fröderberg – Sweco – Den mest optimala konstruktionen? \nProgrammet introduceras av Programråd Syds ordförande Jenny Larsson och avslutas med dialog kring kvällens frågeställningar. \nI pausen bjuds det på traditionellt mingel och baguetter – ett fint tillfälle för studenter och branschrepresentanter att mötas. \n  \n\n\n\nTid\n23 februari kl. 17.00-19:00\n\n\nPlats\nTeknodromen\, M-huset\, Öle Römers väg 1\, Lund. Se karta nedan.\n\n\nAnmälan\nSenast 18 februari via formulär nedan.\n\n\nKostnad\nGratis för medlemmar i Betongföreningen samt för anställda hos Betongföreningens korporativa medlemsföretag. Gratis också för studenter vid LTH. Övriga betalar 400 kr.\n\n\n\n  \nAnmälan\nAktivera JavaScript i din webbläsare för att fylla i formuläret.För- och efternamn *		\n			Epostadress medlem Betongföreningen\n			\n		\n		Mobilnummer *(endast siffror)Epostadress *E-postBekräfta e-postMedlemskap i Betongföreningen *Jag är enskild medlemJag är anställd vid ett korporativt medlemsföretagJag är inte medlem och betalar därför 400 kr för mitt deltagande (faktureringsadress uppges nedan)Jag är student vid LTH och deltar därför kostnadsfrittFakturauppgifter (om ej medlem eller student vid LTH)* Fakturauppgifter behöver bara uppges av den som inte är enskild medlem och inte heller anställd vid något av våra korporativa medlemsföretag. Organisationsnummer krävs för företag. Personnummer krävs om du ska betala privat. Medlemskapet kan kontrolleras genom inloggning på hemsidan. Skicka  \n  \nVägbeskrivning
URL:https://betongforeningen.se/event/seminarium-i-lund-den-optimala-betongen-robotiserat-eller-hybrid/
LOCATION:Lunds Tekniska Högskola\, Teknodromen\, Öle Römers väg 1\, Lund\, Sweden
CATEGORIES:Seminarium
ATTACH;FMTTYPE=image/jpeg:https://betongforeningen.se/wp-content/uploads/2026/02/byggnad.jpg
END:VEVENT
BEGIN:VEVENT
DTSTART;TZID=Europe/Stockholm:20260226T100000
DTEND;TZID=Europe/Stockholm:20260226T160000
DTSTAMP:20260425T154324
CREATED:20251218T134131Z
LAST-MODIFIED:20260402T102958Z
UID:32502-1772100000-1772121600@betongforeningen.se
SUMMARY:26 februari: ECSN Webinar: Durability & Sustainability: Europe’s Next Steps Forward
DESCRIPTION:Durability & Sustainability: Europe’s Next Steps Forward\nThis webinar is organized by the European Concrete Societies Network (ECSN)\n 26 February 2026\n 10:00–16:00 CET\n Live from Oslo – broadcast directly from the Tekna Studio \nJoin us for a dynamic full-day webinar exploring how Europe is strengthening the future of its built environment while accelerating the transition to low-carbon materials. Featuring experts\, real-world cases\, and industry insights\, this event is designed for anyone working with concrete\, construction\, infrastructure\, or sustainability. \nWhat to Expect\n Part 1 — Durability of Concrete Structures\nEurope’s infrastructure is aging—and the need to preserve\, strengthen\, and repair existing concrete structures is important. In this session\, leading experts will share the latest research\, challenges\, and practical approaches to extending service life and improving resilience. \n Part 2 — Scaling Up Industrial Decarbonization\nCement and concrete producers across Europe are adopting next-generation materials\, technologies\, and processes to cut emissions. This session brings together the whole concrete sector to discuss what’s working\, what’s next\, and how the sector is progressing toward carbon neutrality. \nRead more and register »
URL:https://betongforeningen.se/event/ecsn-webinar-260226/
CATEGORIES:ECSN,Webbinarium
ATTACH;FMTTYPE=image/jpeg:https://betongforeningen.se/wp-content/uploads/2025/12/ecsn-webinar-260226.jpg
END:VEVENT
BEGIN:VEVENT
DTSTART;VALUE=DATE:20260317
DTEND;VALUE=DATE:20260321
DTSTAMP:20260425T154324
CREATED:20260221T093155Z
LAST-MODIFIED:20260402T105701Z
UID:32814-1773705600-1774051199@betongforeningen.se
SUMMARY:Kursstart: 17 mars: Betongreparationer för arbetsledare och operatörer
DESCRIPTION:Anmäl senast måndag 23/2\nFelaktigt utförda betong­reparationer är en vanlig orsak till kort livslängd\, återkommande skador och onödiga kostnader. Att reparera befintliga konstruktioner kräver ofta annan kompetens än nyproduktion – både hos arbetsledare och operatörer. \nDärför erbjuder Betongföreningen kursen Betongreparationer för arbetsledare och operatörer – en fördjupande utbildning med fokus på rätt metodval och praktiskt utförande. \nKursen i korthet\n• 4 dagar\n• Plats: Borås\n• Praktiska demonstrationer och övningar i RISE betonglabb\n• Genomförs vid minst 8 anmälda deltagare \nUtbildningens mål\nAtt säkerställa att arbetsledare och operatörer har de grundkunskaper som krävs för att kunna utföra vanligt förekommande betongreparationer på ett tekniskt korrekt och hållbart sätt. \nDeltagare som uppfyller förkunskapskraven och klarar tentamen erhåller utbildningsintyg.\nUtbildningsplanen är framtagen av Rebet och baseras på Betongrapport nr 8. \nFörkunskapskrav\n• Arbetsledare: Betongkurs klass II–U\n• Operatörer: Yrkesbevis för betongarbete eller motsvarande kunskaper \nFörkunskaper ska styrkas med utbildningsintyg eller motsvarande dokumentation. \n👉 Sista anmälningsdag är måndag 23 februari\nVill du säkra plats för dig själv eller ditt projektteam – anmäl dig nu »
URL:https://betongforeningen.se/event/betongreparationer-for-arbetsledare-och-operatorer-sista-anm-dag-mandag-23-2/
LOCATION:RISE\, Brinellgatan 4\, Borås\, Sweden
CATEGORIES:Utbildning
ATTACH;FMTTYPE=image/jpeg:https://betongforeningen.se/wp-content/uploads/2026/02/betongreparation.jpg
END:VEVENT
BEGIN:VEVENT
DTSTART;TZID=Europe/Stockholm:20260414T130000
DTEND;TZID=Europe/Stockholm:20260414T154500
DTSTAMP:20260425T154324
CREATED:20260323T160331Z
LAST-MODIFIED:20260402T104003Z
UID:32948-1776171600-1776181500@betongforeningen.se
SUMMARY:14 april: Betongföreningens årsmöte med två intressanta föredrag
DESCRIPTION:Vi ses på Tyréns huvudkontor i Stockholm. Förutom årsmötesförhandlingar bjuder vi på två föredrag om intressanta projekt. Vi avslutar årsmötet med att uppmärksamma fyra nya Stora medlemmar. \nAnmälan senast 7 april. \nLäs mer här »
URL:https://betongforeningen.se/event/betongforeningens-arsmote-med-tva-intressanta-foredrag/
LOCATION:Tyréns\, Folkungagatan 44\, Stockholm
CATEGORIES:Årsmöte
ATTACH;FMTTYPE=image/jpeg:https://betongforeningen.se/wp-content/uploads/2026/03/recreate.jpg
END:VEVENT
BEGIN:VEVENT
DTSTART;VALUE=DATE:20260420
DTEND;VALUE=DATE:20260422
DTSTAMP:20260425T154324
CREATED:20260209T153954Z
LAST-MODIFIED:20260402T105617Z
UID:32741-1776643200-1776815999@betongforeningen.se
SUMMARY:Kursstart 20 april: Undervattensgjutning för operatörer
DESCRIPTION:Den här kursens mål är att säkerställa att operatörer vid arbete med undervattensgjutning har erforderliga grundkunskaper. Kursens längd är två dagar och avslutas med en kortare tentamen. \nUtbildningsplanen är framtagen av Vägverket och finns beskriven i Bilaga 1 till Betongföreningens Rapport nr 8; Vidareutbildning inom betongområdet. \nVid detta kurstillfälle är vi på Älvkarleö Herrgård och i kurspriset ingår en fin välkomstmiddag på kursens första dag. \nLäs mer och anmäl deltagande här »
URL:https://betongforeningen.se/event/kursstart-20-4-undervattensgjutning-for-operatorer/
LOCATION:Älvkarleö Herrgård\, Bruksgatan 22\, Älvekarleö\, Sweden
CATEGORIES:Utbildning
ATTACH;FMTTYPE=image/jpeg:https://betongforeningen.se/wp-content/uploads/2026/02/Kalixbron-UV-gjutning.jpg
END:VEVENT
BEGIN:VEVENT
DTSTART;VALUE=DATE:20260420
DTEND;VALUE=DATE:20260424
DTSTAMP:20260425T154324
CREATED:20260209T153045Z
LAST-MODIFIED:20260402T105538Z
UID:32736-1776643200-1776988799@betongforeningen.se
SUMMARY:Kursstart 20 april: Undervattensgjutning för arbetsledare och provtagare
DESCRIPTION:Den här kursen är en påbyggnadskurs till Betongkurs Klass I Platsgjutning och genomförs i samarbete med Vattenfall Research & Development AB. Genomgången kurs och godkänd skriftlig tentamen ger behörighet för undervattensgjutningar av Trafikverkets\, och andra beställares\, konstruktioner. \nKursen hålls i Älvkarleby med klassrumsundervisning på Älvkarleö Herrgård och praktiska övningar och demonstrationer på Vattenfalls forskningsanläggning. Kurslängd är fyra dagar. \nKurspriset inkluderar luncher och middagar på Älvkarleö Herrgård. Boende ingår inte\, men vi rekommenderar att man bor på Älvkarleö Herrgård. \nUtbildningsplanen är framtagen av Vägverket och finns beskriven i Bilaga 1 till Betongrapport nr 8 som kan laddas ned gratis här: www.betongforeningen.se/publikationer. \nLäs mer och anmäl deltagande här »
URL:https://betongforeningen.se/event/kursstart-20-4-undervattensgjutning-for-arbetsledare-och-provtagare/
LOCATION:Älvkarleö Herrgård\, Bruksgatan 22\, Älvekarleö\, Sweden
CATEGORIES:Utbildning
ATTACH;FMTTYPE=image/jpeg:https://betongforeningen.se/wp-content/uploads/2024/02/kurs-undervattensgjutning.jpg
END:VEVENT
BEGIN:VEVENT
DTSTART;VALUE=DATE:20260420
DTEND;VALUE=DATE:20260509
DTSTAMP:20260425T154324
CREATED:20260220T110715Z
LAST-MODIFIED:20260402T111247Z
UID:32791-1776643200-1778284799@betongforeningen.se
SUMMARY:Kursstart 20 april: Platsgjutning Klass II-U
DESCRIPTION:Betongkurs Klass II – Platsgjutning\nVill du ta nästa steg i din karriär inom betong? Klass II-kursen i platsgjutning ger dig den tekniska kompetens och det regelverkskunnande som krävs för att leda och övervaka platsgjutning på professionell nivå. \nVad kursen ger dig\nEfter genomförd utbildning har du de kunskaper som krävs för att självständigt leda och övervaka platsgjutning av betong i kompetensklass II – ett certifikat som är efterfrågat i branschen och uppfyller kompetenskraven enligt standarden SS 137003. \nPraktisk information\nKursen är sju dagar och ges som klassrumsundervisning. För att erhålla certifikat krävs ett års praktik\, närvaro vid laboration samt godkänd tentamen. \nObservera att Klass I-kursen är förkunskapskrav. \nUtbildningen följer Rådet för teknik och vidareutbildnings kursplaner enligt Betongrapport nr 8\, som du kan ladda ned kostnadsfritt på betongforeningen.se/publikationer. \nRedo att certifiera dig?\nLäs mer och anmäl deltagande här »
URL:https://betongforeningen.se/event/kursstart-20-4-platsgjutning-klass-2-u/
LOCATION:Scandic Infra City\, Kanalvägen 10\, Upplands Väsby\, Sweden
CATEGORIES:Utbildning
ATTACH;FMTTYPE=image/jpeg:https://betongforeningen.se/wp-content/uploads/2026/02/Klass_II_P_2025.jpg
END:VEVENT
BEGIN:VEVENT
DTSTART;TZID=Europe/Stockholm:20260513T090000
DTEND;TZID=Europe/Stockholm:20260513T120000
DTSTAMP:20260425T154324
CREATED:20260420T161601Z
LAST-MODIFIED:20260420T161703Z
UID:33077-1778662800-1778673600@betongforeningen.se
SUMMARY:Licentiatseminarium på Chalmers
DESCRIPTION:Den 13 maj klockan 09:00-12:00 presenterar Sahar Iftikhar\, Doktorand\, Arkitektur och samhällsbyggnadsteknik sin licentiatavhandling \n”Evolution of Carbonation in Cement Blends with Incorporation of Activated Low-Kaolinite Clays”\n\nDatum: Startar 13 maj 2026\, 09:00 Slutar 13 maj 2026\, 12:00\nPlats: SB-II H5 & Zoom\, Online disputation\nOpponent: Karl-Christian Thienel\, Professor\, University of the Bundeswehr Munich\, Germany\nAvhandling: Läs avhandlingen\n\nLäs mer »
URL:https://betongforeningen.se/event/licentiatseminarium-pa-chalmers-4/
LOCATION:Chalmers alt. Zoom\, Sven Hultins gata 6\, Göteborg
CATEGORIES:Disputationer och lic seminarier
ATTACH;FMTTYPE=image/png:https://betongforeningen.se/wp-content/uploads/2025/11/research-chalmers.png
END:VEVENT
BEGIN:VEVENT
DTSTART;VALUE=DATE:20260518
DTEND;VALUE=DATE:20260606
DTSTAMP:20260425T154324
CREATED:20260402T112249Z
LAST-MODIFIED:20260402T112249Z
UID:32996-1779062400-1780703999@betongforeningen.se
SUMMARY:Kursstart 18 maj: Platsgjutning Klass I-U
DESCRIPTION:Platsgjutning av betong – kompetensklass I-U\nKlass I-kurserna ger den kunskap om teknik och regelverk som erfordras för att deltagaren ska kunna leda och övervaka platsgjutning av betong i kompetensklass I. \nKurslängden är 10 dagar och kursen ges som klassrumsundervisning. \nTvå års praktik samt godkänd tentamen krävs för certifikat. \nFör att få påbörja Klass I krävs Klass II med godkänd tentamen och laboration samt 1 års praktik. \nLäs mer och anmäl deltagande här »
URL:https://betongforeningen.se/event/kursstart-18-maj-platsgjutning-klass-i-u/
LOCATION:Scandic Infra City\, Kanalvägen 10\, Upplands Väsby\, Sweden
CATEGORIES:Utbildning
ATTACH;FMTTYPE=image/jpeg:https://betongforeningen.se/wp-content/uploads/2026/02/Klass_II_P_2025.jpg
END:VEVENT
BEGIN:VEVENT
DTSTART;VALUE=DATE:20260526
DTEND;VALUE=DATE:20260529
DTSTAMP:20260425T154324
CREATED:20260402T112856Z
LAST-MODIFIED:20260422T120327Z
UID:33000-1779753600-1780012799@betongforeningen.se
SUMMARY:Kursstart 26 maj: Ökad livslängd för betongkonstruktioner
DESCRIPTION:Ökad livslängd för betongkonstruktioner\nYtskyddsakademien i samarbete med Betongföreningen har arbetat fram utbildningen ”Ökad livslängd för betongkonstruktioner” som troligen är den mest omfattande utbildningen som genomförts inom detta komplexa kunskapsområde. Totalt är det över 30 arbetsområden som kommer att presenteras och kunskapsförmedlarna har mestadels 20-40 års erfarenhet inom sitt kunskapsområde. Det finns åtskilliga studier som visar att ökad livslängd på befintliga konstruktioner kan minska miljöpåverkan med 80% men samtidigt också spara 80% av kostnaderna. \nUtbildningen kommer att genomföras den 26-28 maj 2026 i Stockholm och är på 3 dagar. Alla kursdeltagare erhåller diplom. \nLäs mer och anmäl deltagande här »
URL:https://betongforeningen.se/event/kursstart-26-maj-okad-livslangd-for-betongkonstruktioner/
CATEGORIES:Utbildning
ATTACH;FMTTYPE=image/png:https://betongforeningen.se/wp-content/uploads/2025/11/YSA-background-4.png
END:VEVENT
BEGIN:VEVENT
DTSTART;VALUE=DATE:20260615
DTEND;VALUE=DATE:20260620
DTSTAMP:20260425T154324
CREATED:20250526T094350Z
LAST-MODIFIED:20250528T143404Z
UID:31468-1781481600-1781913599@betongforeningen.se
SUMMARY:Structural Concrete 2050 Towards Carbon Neutrality\, AI Design\, and Robotic Construction
DESCRIPTION:Lisbon\, June 15-19\, 2026\nStructural Concrete 2050:\nTowards Carbon Neutrality\, AI Design\, and Robotic Construction\n  \nfib Congress 2026\nThe fib Congress 2026 will be held in Lisbon\, Portugal\, from 15 to 19 June 2026\, aiming to highlight the ultimate goal of sustainability and the opportunities that emerging technologies will bring to concrete structures\, under the motto “Structural Concrete 2050: Towards Carbon Neutrality\, AI Design\, and Robotic Construction”. \nWorld-renowned keynote speakers will address key topics\, including conceptual design\, the robustness of prefabricated structures\, seismic retrofitting of existing buildings\, 3D-printing\, and AI-driven applications. Delegates from around the world\, holding diverse professional backgrounds\, will present the latest scientific and technological innovations\, as well as the most impressive projects in structural concrete\, bridging research and practice. \nYoung engineers will have dedicated sessions organized by the fib-YMG\, while students will participate in a competition designed to challenge both their skills and the knowledge of their supervisors. Additionally\, leading companies in the concrete construction industry will showcase their products and services at the sponsors’ technical exhibition. Participants will also have the opportunity to join one of two technical visits: (a) to an existing cable-stayed bridge in Lisbon or (b) to an under-construction arch bridge in Porto. \nJune is a wonderful time to visit Portugal\, with its pleasant weather making it an excellent opportunity to extend your stay through the weekend. Visitors can explore Lisbon’s most iconic landmarks or they can visit the charming nearby towns of Sintra and Cascais or Óbidos and Nazaré. \nInformation for delegates »\nSponsorship & Exhibition »
URL:https://betongforeningen.se/event/structural-concrete-2050-towards-carbon-neutrality-ai-design-and-robotic-construction/
LOCATION:Culturgest – CGD head office building\, Lisbon\, Portugal
CATEGORIES:fib,Symposium
ATTACH;FMTTYPE=image/jpeg:https://betongforeningen.se/wp-content/uploads/2025/05/fib_lisbon_2026.jpg
END:VEVENT
END:VCALENDAR