BEGIN:VCALENDAR
VERSION:2.0
PRODID:-//Betongföreningen - ECPv6.15.20//NONSGML v1.0//EN
CALSCALE:GREGORIAN
METHOD:PUBLISH
X-WR-CALNAME:Betongföreningen
X-ORIGINAL-URL:https://betongforeningen.se
X-WR-CALDESC:Händelser för Betongföreningen
REFRESH-INTERVAL;VALUE=DURATION:PT1H
X-Robots-Tag:noindex
X-PUBLISHED-TTL:PT1H
BEGIN:VTIMEZONE
TZID:Europe/Stockholm
BEGIN:DAYLIGHT
TZOFFSETFROM:+0100
TZOFFSETTO:+0200
TZNAME:CEST
DTSTART:20220327T010000
END:DAYLIGHT
BEGIN:STANDARD
TZOFFSETFROM:+0200
TZOFFSETTO:+0100
TZNAME:CET
DTSTART:20221030T010000
END:STANDARD
BEGIN:DAYLIGHT
TZOFFSETFROM:+0100
TZOFFSETTO:+0200
TZNAME:CEST
DTSTART:20230326T010000
END:DAYLIGHT
BEGIN:STANDARD
TZOFFSETFROM:+0200
TZOFFSETTO:+0100
TZNAME:CET
DTSTART:20231029T010000
END:STANDARD
BEGIN:DAYLIGHT
TZOFFSETFROM:+0100
TZOFFSETTO:+0200
TZNAME:CEST
DTSTART:20240331T010000
END:DAYLIGHT
BEGIN:STANDARD
TZOFFSETFROM:+0200
TZOFFSETTO:+0100
TZNAME:CET
DTSTART:20241027T010000
END:STANDARD
END:VTIMEZONE
BEGIN:VEVENT
DTSTART;TZID=Europe/Stockholm:20230421T130000
DTEND;TZID=Europe/Stockholm:20230421T130000
DTSTAMP:20260425T185803
CREATED:20230414T124236Z
LAST-MODIFIED:20230414T124236Z
UID:25617-1682082000-1682082000@betongforeningen.se
SUMMARY:Licentiatseminarium: Patrick Rogers – ”Material Properties of Bulk Hydrophobic Concrete in a Nordic Environment”
DESCRIPTION:Fredagen den 21 april kl 13 kommer Patrick Rogers att presentera sin licentiatavhandling med titeln:  \n”Material Properties of Bulk Hydrophobic Concrete in a Nordic Environment”\nPlats: Sal B26\, Brinellvägen 23\, KTH.\nVideolänk:  https://kth-se.zoom.us/j/67403522553\nAvhandlingen kan laddas ned från: http://kth.diva-portal.org/smash/record.jsf?pid=diva2%3A1745909&dswid=-6319\nGranskare: Professor Tang Luping\, Chalmers.
URL:https://betongforeningen.se/event/licentiatseminarium-patrick-rogers-material-properties-of-bulk-hydrophobic-concrete-in-a-nordic-environment/
CATEGORIES:Disputationer och lic seminarier
ATTACH;FMTTYPE=image/webp:https://betongforeningen.se/wp-content/uploads/2023/04/Patrick_Rogers.webp
END:VEVENT
BEGIN:VEVENT
DTSTART;TZID=Europe/Stockholm:20230425T130000
DTEND;TZID=Europe/Stockholm:20230425T140000
DTSTAMP:20260425T185803
CREATED:20230321T101844Z
LAST-MODIFIED:20230321T101844Z
UID:25614-1682427600-1682431200@betongforeningen.se
SUMMARY:Betongföreningens årsmöte
DESCRIPTION:Svenska Betongföreningens årsmöte 2023\nWebbinarium den 25 april\nTid: Tisdagen den 25 april kl. 13.00-14.00\nPlats: Teams eller Zoom – länk skickas före årsmötet\nAnmälan: Via formulär nedan\nKontakt: epost: admin@betongforeningen.se eller mobil/sms: 073-656 0903 (Ylva Brunnberg). \nVerksamhetsberättelse för 2022 kan laddas ned här »\nPå samma plats hittar du alla verksamhetsberättelser från 2002 och framåt. \nÅrsmötesförhandlingar\nDAGORDNING \n1. Årsmötets öppnande\n2. Val av mötesordförande\, mötessekreterare och justeringsman\n3. Röstlängd\n4. Godkännande av dagordning\n5. Kallelsen\n6. Verksamhetsberättelsen\n7. Revisionsberättelsen\n8. Beslut om resultat- och balansräkningar\, disposition av överskott samt ansvarsfrihet\n9. Val av styrelse\, revisorer och valberedning\n10. Val av representanter för föreningens aktier vid bolagsstämman i Servicebolaget\n11. Budget och medlemsavgifter\n12. Meddelanden\n13. Övriga frågor\n14. Mötets avslutande \n  \nAnmälan\n[contact-form-7 id=”12987″ title=”Betongföreningens årsmöte 2023″]
URL:https://betongforeningen.se/event/betongforeningens-arsmote-2/
CATEGORIES:Årsmöte
ATTACH;FMTTYPE=image/jpeg:https://betongforeningen.se/wp-content/uploads/2020/04/klubba.jpg
END:VEVENT
BEGIN:VEVENT
DTSTART;TZID=Europe/Stockholm:20230428T130000
DTEND;TZID=Europe/Stockholm:20230428T150000
DTSTAMP:20260425T185803
CREATED:20230323T092818Z
LAST-MODIFIED:20230323T092818Z
UID:25615-1682686800-1682694000@betongforeningen.se
SUMMARY:Studiebesök vid ESS
DESCRIPTION:Foto: Wikimedia Commons\nBetongföreningen via Programråd Syd inbjuder till\nStudiebesök vid ESS\, European Spallation Source\, i Lund\nfredagen den 28 april 2023 kl 13–15\nVi följer upp vårt besök 2016 med detta unika besök i den färdiga anläggningen. Ja\, det vill säga – det färdiga byggprojektet. Installationer av utrustning fortskrider. \nESS – Det var möjligt! Den europeiska spallationskällan är nu byggd i Lund. En av världens ledande stora forskningsanläggningar är överlämnad till byggherren av entreprenören Skanska. Vi erbjuds ett unikt tillfälle med guidning av Skanskas projektchef och betongexpert. \nGuider:\nUlrika Hammarlund – ESS Communications – tidigare kommunikationsansvarig Skanskas ESS projekt\nPer Smidfelt – AB Sydsten – tidigare projektchef på ESS för Skanska\nNiclas Silfverberg – Produktionschef Skanska – tidigare produktionschef betongarbeten på ESS \nVi måste föranmäla alla namn till ESS i förväg.\nMycket begränsat deltagarantal. Först till kvarn…\nSkulle förhinder uppstå är det av största vikt att avanmälan sker. \nAnmäl er så kommer\, så kommer ytterligare detaljer meddelas till deltagarna. \nAnmälan stänger 14/4.  \nVälkomna!\nÖnskar Programråd Syd \n  \nAnmälan\nOBS! Studiebesöket är fulltecknat men du kan anmäla dig till kölista utifall någon av de hittills anmälda måste avboka.  \n[contact-form-7 id=”13001″ title=”Studiebesök vid ESS”]
URL:https://betongforeningen.se/event/studiebesok-vid-ess/
CATEGORIES:Studiebesök
ATTACH;FMTTYPE=image/jpeg:https://betongforeningen.se/wp-content/uploads/2023/03/European_Spallation_Source_Aerial.jpg
END:VEVENT
END:VCALENDAR